BEGIN:VCALENDAR
VERSION:2.0
PRODID:-//Seaside | Civic &amp; Convention Center - ECPv6.15.11//NONSGML v1.0//EN
CALSCALE:GREGORIAN
METHOD:PUBLISH
X-ORIGINAL-URL:https://seasideconvention.com
X-WR-CALDESC:Events for Seaside | Civic &amp; Convention Center
REFRESH-INTERVAL;VALUE=DURATION:PT1H
X-Robots-Tag:noindex
X-PUBLISHED-TTL:PT1H
BEGIN:VTIMEZONE
TZID:UTC
BEGIN:STANDARD
TZOFFSETFROM:+0000
TZOFFSETTO:+0000
TZNAME:UTC
DTSTART:20210101T000000
END:STANDARD
END:VTIMEZONE
BEGIN:VEVENT
DTSTART;VALUE=DATE:20230406
DTEND;VALUE=DATE:20230407
DTSTAMP:20260421T051512
CREATED:20230303T193347Z
LAST-MODIFIED:20230303T193347Z
UID:10001864-1680739200-1680825599@seasideconvention.com
SUMMARY:Calm In The Midst of Chaos 2023
DESCRIPTION:Clatsop County will host a first responder training\, this is a private event.
URL:https://seasideconvention.com/event/calm-in-the-midst-of-chaos-2023/
LOCATION:Seaside Civic & Convention Center\, 415 First Avenue\, Seaside\, OR\, 97138\, United States
ATTACH;FMTTYPE=image/jpeg:https://seasideconvention.com/wp-content/uploads/2020/09/Clatsop-County-Logo.jpg
GEO:45.9941136;-123.9253166
X-APPLE-STRUCTURED-LOCATION;VALUE=URI;X-ADDRESS=Seaside Civic & Convention Center 415 First Avenue Seaside OR 97138 United States;X-APPLE-RADIUS=500;X-TITLE=415 First Avenue:geo:-123.9253166,45.9941136
END:VEVENT
BEGIN:VEVENT
DTSTART;TZID=UTC:20220215T073000
DTEND;TZID=UTC:20220215T090000
DTSTAMP:20260421T051512
CREATED:20211230T165309Z
LAST-MODIFIED:20211230T165411Z
UID:10001383-1644910200-1644915600@seasideconvention.com
SUMMARY:Union Health District of Clatsop County Board Meeting
DESCRIPTION:This is a private event.
URL:https://seasideconvention.com/event/union-health-district-of-clatsop-county-board-meeting-9/
LOCATION:Seaside Civic & Convention Center\, 415 First Avenue\, Seaside\, OR\, 97138\, United States
ATTACH;FMTTYPE=image/jpeg:https://seasideconvention.com/wp-content/uploads/2021/03/Office.jpg
GEO:45.9941136;-123.9253166
X-APPLE-STRUCTURED-LOCATION;VALUE=URI;X-ADDRESS=Seaside Civic & Convention Center 415 First Avenue Seaside OR 97138 United States;X-APPLE-RADIUS=500;X-TITLE=415 First Avenue:geo:-123.9253166,45.9941136
END:VEVENT
BEGIN:VEVENT
DTSTART;VALUE=DATE:20220126
DTEND;VALUE=DATE:20220127
DTSTAMP:20260421T051512
CREATED:20211227T182922Z
LAST-MODIFIED:20211230T164529Z
UID:10001381-1643155200-1643241599@seasideconvention.com
SUMMARY:Bulletproof Spirit Conference
DESCRIPTION:This is a private event.
URL:https://seasideconvention.com/event/bulletproof-spirit-conference/
LOCATION:Seaside Civic & Convention Center\, 415 First Avenue\, Seaside\, OR\, 97138\, United States
ATTACH;FMTTYPE=image/png:https://seasideconvention.com/wp-content/uploads/2021/12/download-1.png
GEO:45.9941136;-123.9253166
X-APPLE-STRUCTURED-LOCATION;VALUE=URI;X-ADDRESS=Seaside Civic & Convention Center 415 First Avenue Seaside OR 97138 United States;X-APPLE-RADIUS=500;X-TITLE=415 First Avenue:geo:-123.9253166,45.9941136
END:VEVENT
BEGIN:VEVENT
DTSTART;TZID=UTC:20220118T073000
DTEND;TZID=UTC:20220118T090000
DTSTAMP:20260421T051512
CREATED:20211230T165045Z
LAST-MODIFIED:20211230T165045Z
UID:10001382-1642491000-1642496400@seasideconvention.com
SUMMARY:Union Health District of Clatsop County Board Meeting
DESCRIPTION:This is a private event.
URL:https://seasideconvention.com/event/union-health-district-of-clatsop-county-board-meeting-8/
LOCATION:Seaside Civic & Convention Center\, 415 First Avenue\, Seaside\, OR\, 97138\, United States
ATTACH;FMTTYPE=image/jpeg:https://seasideconvention.com/wp-content/uploads/2021/03/Office.jpg
GEO:45.9941136;-123.9253166
X-APPLE-STRUCTURED-LOCATION;VALUE=URI;X-ADDRESS=Seaside Civic & Convention Center 415 First Avenue Seaside OR 97138 United States;X-APPLE-RADIUS=500;X-TITLE=415 First Avenue:geo:-123.9253166,45.9941136
END:VEVENT
END:VCALENDAR