BEGIN:VCALENDAR
VERSION:2.0
PRODID:-//Seaside | Civic &amp; Convention Center - ECPv6.15.11//NONSGML v1.0//EN
CALSCALE:GREGORIAN
METHOD:PUBLISH
X-WR-CALNAME:Seaside | Civic &amp; Convention Center
X-ORIGINAL-URL:https://seasideconvention.com
X-WR-CALDESC:Events for Seaside | Civic &amp; Convention Center
REFRESH-INTERVAL;VALUE=DURATION:PT1H
X-Robots-Tag:noindex
X-PUBLISHED-TTL:PT1H
BEGIN:VTIMEZONE
TZID:UTC
BEGIN:STANDARD
TZOFFSETFROM:+0000
TZOFFSETTO:+0000
TZNAME:UTC
DTSTART:20180101T000000
END:STANDARD
END:VTIMEZONE
BEGIN:VEVENT
DTSTART;VALUE=DATE:20260102
DTEND;VALUE=DATE:20260105
DTSTAMP:20260420T214322
CREATED:20230111T215331Z
LAST-MODIFIED:20260115T214614Z
UID:10001476-1767312000-1767571199@seasideconvention.com
SUMMARY:Cat Show 2026
DESCRIPTION:Sponsored by the Emerald Cat Club out of Vancouver\, WA – The Emerald Cat Club Competition will be held at the Seaside Convention Center. Admission Fee: $10 adult; $5 children under 12/seniors; $25 family. Saturday 10:00am-5:00 pm; Sunday 9:00 am-4:00 pm Sunday
URL:https://seasideconvention.com/event/cat-show-2026/
LOCATION:Seaside Civic & Convention Center\, 415 First Avenue\, Seaside\, OR\, 97138\, United States
ATTACH;FMTTYPE=image/jpeg:https://seasideconvention.com/wp-content/uploads/2020/05/350258033_558063056268003_386842999888941320_n-e1703790378894.jpg
GEO:45.9941136;-123.9253166
X-APPLE-STRUCTURED-LOCATION;VALUE=URI;X-ADDRESS=Seaside Civic & Convention Center 415 First Avenue Seaside OR 97138 United States;X-APPLE-RADIUS=500;X-TITLE=415 First Avenue:geo:-123.9253166,45.9941136
END:VEVENT
BEGIN:VEVENT
DTSTART;VALUE=DATE:20250103
DTEND;VALUE=DATE:20250106
DTSTAMP:20260420T214322
CREATED:20220923T170448Z
LAST-MODIFIED:20250103T161702Z
UID:10001828-1735862400-1736121599@seasideconvention.com
SUMMARY:Cat Show 2025
DESCRIPTION:Sponsored by the Emerald Cat Club out of Vancouver\, WA (member of Cat Fanciers’ Association)\, the “CFA Allbreed Cat Show and Household Pet Competition” will be held at the Seaside Convention Center. Click here for registration details! Show is open to the public Saturday & Sunday 10:00am-4:00pm. \nAdmission Fees: $10/Adults\, $5/Children & Seniors\, $25 for a family of 4 (2 adults and 2 others)
URL:https://seasideconvention.com/event/cat-show-6/
LOCATION:Seaside Civic & Convention Center\, 415 First Avenue\, Seaside\, OR\, 97138\, United States
ATTACH;FMTTYPE=image/jpeg:https://seasideconvention.com/wp-content/uploads/2020/05/350258033_558063056268003_386842999888941320_n-e1703790378894.jpg
GEO:45.9941136;-123.9253166
X-APPLE-STRUCTURED-LOCATION;VALUE=URI;X-ADDRESS=Seaside Civic & Convention Center 415 First Avenue Seaside OR 97138 United States;X-APPLE-RADIUS=500;X-TITLE=415 First Avenue:geo:-123.9253166,45.9941136
END:VEVENT
BEGIN:VEVENT
DTSTART;VALUE=DATE:20240105
DTEND;VALUE=DATE:20240108
DTSTAMP:20260420T214322
CREATED:20211117T232211Z
LAST-MODIFIED:20240105T172452Z
UID:10001760-1704412800-1704671999@seasideconvention.com
SUMMARY:Cat Show 2024
DESCRIPTION:Sponsored by the Emerald Cat Club out of Vancouver\, WA (member of Cat Fanciers’ Association)\, the “CFA All Breed Cat Show and Household Pet Competition” will be held at the Seaside Convention Center. The show is open to the public for viewing: Saturday 10:00am-4:00pm & Sunday 9:00am-4:00pm – click here for flyer details! Admission $10/adults; $5 seniors & children; $25/family of 4 (2 adults & 2 children).
URL:https://seasideconvention.com/event/cat-show-3/
LOCATION:Seaside Civic & Convention Center\, 415 First Avenue\, Seaside\, OR\, 97138\, United States
ATTACH;FMTTYPE=image/jpeg:https://seasideconvention.com/wp-content/uploads/2020/05/350258033_558063056268003_386842999888941320_n-e1703790378894.jpg
GEO:45.9941136;-123.9253166
X-APPLE-STRUCTURED-LOCATION;VALUE=URI;X-ADDRESS=Seaside Civic & Convention Center 415 First Avenue Seaside OR 97138 United States;X-APPLE-RADIUS=500;X-TITLE=415 First Avenue:geo:-123.9253166,45.9941136
END:VEVENT
BEGIN:VEVENT
DTSTART;VALUE=DATE:20230106
DTEND;VALUE=DATE:20230109
DTSTAMP:20260420T214322
CREATED:20200511T210424Z
LAST-MODIFIED:20231228T190634Z
UID:10001548-1672963200-1673222399@seasideconvention.com
SUMMARY:Cat Show 2023
DESCRIPTION:Sponsored by the Emerald Cat Club out of Vancouver\, WA (member of Cat Fanciers’ Association)\, the “CFA All-breed Cat Show and Household Pet Competition” will be held at the Seaside Convention Center.  Click here for more information: https://cfa.org/wp-content/uploads/2022/10/EmeraldCatClub-Jan2023.pdf \n~ 𝗔𝗗𝗠𝗜𝗦𝗦𝗜𝗢𝗡 ～\nDoors open 10:00 am – 4:00 pm\, tickets can be purchased at the door – Credit/Debit/Cash\nAdults $10 • Seniors & Children $5 • Family of 4 $25 • Children 4 & under free. \n 
URL:https://seasideconvention.com/event/cat-show-4/
LOCATION:Seaside Civic & Convention Center\, 415 First Avenue\, Seaside\, OR\, 97138\, United States
ATTACH;FMTTYPE=image/jpeg:https://seasideconvention.com/wp-content/uploads/2020/05/350258033_558063056268003_386842999888941320_n-e1703790378894.jpg
GEO:45.9941136;-123.9253166
X-APPLE-STRUCTURED-LOCATION;VALUE=URI;X-ADDRESS=Seaside Civic & Convention Center 415 First Avenue Seaside OR 97138 United States;X-APPLE-RADIUS=500;X-TITLE=415 First Avenue:geo:-123.9253166,45.9941136
END:VEVENT
BEGIN:VEVENT
DTSTART;VALUE=DATE:20220204
DTEND;VALUE=DATE:20220207
DTSTAMP:20260420T214322
CREATED:20200812T200302Z
LAST-MODIFIED:20250114T151630Z
UID:10001234-1643932800-1644191999@seasideconvention.com
SUMMARY:Cat Show
DESCRIPTION:Sponsored by the Emerald Cat Club out of Vancouver\, WA  and the Seattle Cat Club out of Seattle\, WA (both members of Cat Fanciers Association)\, the competition of pedigreed cats will be held at the Seaside Convention Center February 5th & 6th!  The show is open to the public for viewing\, hours are Saturday & Sunday (10am-4pm)\, cost for admission is: $8 Adults\, $4 Seniors & Children\, $20 for a family of four.
URL:https://seasideconvention.com/event/cat-show-5/
LOCATION:Seaside Civic & Convention Center\, 415 First Avenue\, Seaside\, OR\, 97138\, United States
GEO:45.9941136;-123.9253166
X-APPLE-STRUCTURED-LOCATION;VALUE=URI;X-ADDRESS=Seaside Civic & Convention Center 415 First Avenue Seaside OR 97138 United States;X-APPLE-RADIUS=500;X-TITLE=415 First Avenue:geo:-123.9253166,45.9941136
END:VEVENT
BEGIN:VEVENT
DTSTART;VALUE=DATE:20200103
DTEND;VALUE=DATE:20200106
DTSTAMP:20260420T214322
CREATED:20190228T185156Z
LAST-MODIFIED:20250114T151656Z
UID:10001411-1578009600-1578214800@seasideconvention.com
SUMMARY:Cat Show
DESCRIPTION:Sponsored by the Emerald Cat Club out of Vancouver\, WA (member of Cat Fanciers’ Association)\, the “CFA Allbreed Cat Show and Household Pet Competition” will be held at the Seaside Convention Center January 4th & 5th 10am-4pm. \nCost: $5 Adults  $3 Seniors & Children
URL:https://seasideconvention.com/event/cat-show-2/
LOCATION:Seaside Civic & Convention Center\, 415 First Avenue\, Seaside\, OR\, 97138\, United States
GEO:45.9941136;-123.9253166
X-APPLE-STRUCTURED-LOCATION;VALUE=URI;X-ADDRESS=Seaside Civic & Convention Center 415 First Avenue Seaside OR 97138 United States;X-APPLE-RADIUS=500;X-TITLE=415 First Avenue:geo:-123.9253166,45.9941136
END:VEVENT
BEGIN:VEVENT
DTSTART;VALUE=DATE:20190104
DTEND;VALUE=DATE:20190107
DTSTAMP:20260420T214322
CREATED:20180510T221254Z
LAST-MODIFIED:20250114T151723Z
UID:10001341-1546560000-1546819199@seasideconvention.com
SUMMARY:Cat Show
DESCRIPTION:Sponsored by the Emerald Cat Club out of Vancouver\, WA (member of Cat Fanciers’ Association)\, the “CFA Allbreed Cat Show and Household Pet Competition” will be held at the Seaside Convention Center January 5th & 6th. The show is open to the public for viewing\, hours are Saturday 10am-4pm & Sunday 9am-3pm. Cost for admission: $4 Adults\, $2 Seniors & Children.
URL:https://seasideconvention.com/event/cat-show/
LOCATION:Seaside Civic & Convention Center\, 415 First Avenue\, Seaside\, OR\, 97138\, United States
GEO:45.9941136;-123.9253166
X-APPLE-STRUCTURED-LOCATION;VALUE=URI;X-ADDRESS=Seaside Civic & Convention Center 415 First Avenue Seaside OR 97138 United States;X-APPLE-RADIUS=500;X-TITLE=415 First Avenue:geo:-123.9253166,45.9941136
END:VEVENT
END:VCALENDAR