BEGIN:VCALENDAR
VERSION:2.0
PRODID:-//Seaside | Civic &amp; Convention Center - ECPv6.15.11//NONSGML v1.0//EN
CALSCALE:GREGORIAN
METHOD:PUBLISH
X-ORIGINAL-URL:https://seasideconvention.com
X-WR-CALDESC:Events for Seaside | Civic &amp; Convention Center
REFRESH-INTERVAL;VALUE=DURATION:PT1H
X-Robots-Tag:noindex
X-PUBLISHED-TTL:PT1H
BEGIN:VTIMEZONE
TZID:UTC
BEGIN:STANDARD
TZOFFSETFROM:+0000
TZOFFSETTO:+0000
TZNAME:UTC
DTSTART:20260101T000000
END:STANDARD
END:VTIMEZONE
BEGIN:VEVENT
DTSTART;VALUE=DATE:20270108
DTEND;VALUE=DATE:20270111
DTSTAMP:20260420T195924
CREATED:20250221T193323Z
LAST-MODIFIED:20250221T193323Z
UID:10002016-1799366400-1799625599@seasideconvention.com
SUMMARY:Cat Show 2027
DESCRIPTION:Sponsored by the Emerald Cat Club out of Vancouver\, WA (member of Cat Fanciers’ Association)\, the “CFA Allbreed Cat Show and Household Pet Competition” will be held at the Seaside Convention Center.
URL:https://seasideconvention.com/event/cat-show-2027/
LOCATION:Seaside Civic & Convention Center\, 415 First Avenue\, Seaside\, OR\, 97138\, United States
ATTACH;FMTTYPE=image/jpeg:https://seasideconvention.com/wp-content/uploads/2020/05/350258033_558063056268003_386842999888941320_n-e1703790378894.jpg
GEO:45.9941136;-123.9253166
X-APPLE-STRUCTURED-LOCATION;VALUE=URI;X-ADDRESS=Seaside Civic & Convention Center 415 First Avenue Seaside OR 97138 United States;X-APPLE-RADIUS=500;X-TITLE=415 First Avenue:geo:-123.9253166,45.9941136
END:VEVENT
BEGIN:VEVENT
DTSTART;VALUE=DATE:20280107
DTEND;VALUE=DATE:20280110
DTSTAMP:20260420T195924
CREATED:20250221T193154Z
LAST-MODIFIED:20250221T193154Z
UID:10002015-1830816000-1831075199@seasideconvention.com
SUMMARY:Cat Show 2028
DESCRIPTION:Sponsored by the Emerald Cat Club out of Vancouver\, WA (member of Cat Fanciers’ Association)\, the “CFA Allbreed Cat Show and Household Pet Competition” will be held at the Seaside Convention Center.
URL:https://seasideconvention.com/event/cat-show-2028/
LOCATION:Seaside Civic & Convention Center\, 415 First Avenue\, Seaside\, OR\, 97138\, United States
ATTACH;FMTTYPE=image/jpeg:https://seasideconvention.com/wp-content/uploads/2020/05/350258033_558063056268003_386842999888941320_n-e1703790378894.jpg
GEO:45.9941136;-123.9253166
X-APPLE-STRUCTURED-LOCATION;VALUE=URI;X-ADDRESS=Seaside Civic & Convention Center 415 First Avenue Seaside OR 97138 United States;X-APPLE-RADIUS=500;X-TITLE=415 First Avenue:geo:-123.9253166,45.9941136
END:VEVENT
END:VCALENDAR