BEGIN:VCALENDAR
VERSION:2.0
PRODID:-//Seaside | Civic &amp; Convention Center - ECPv6.15.11//NONSGML v1.0//EN
CALSCALE:GREGORIAN
METHOD:PUBLISH
X-ORIGINAL-URL:https://seasideconvention.com
X-WR-CALDESC:Events for Seaside | Civic &amp; Convention Center
REFRESH-INTERVAL;VALUE=DURATION:PT1H
X-Robots-Tag:noindex
X-PUBLISHED-TTL:PT1H
BEGIN:VTIMEZONE
TZID:UTC
BEGIN:STANDARD
TZOFFSETFROM:+0000
TZOFFSETTO:+0000
TZNAME:UTC
DTSTART:20170101T000000
END:STANDARD
END:VTIMEZONE
BEGIN:VEVENT
DTSTART;VALUE=DATE:20260109
DTEND;VALUE=DATE:20260111
DTSTAMP:20260421T082318
CREATED:20240912T152103Z
LAST-MODIFIED:20260105T163524Z
UID:10001591-1767916800-1768089599@seasideconvention.com
SUMMARY:Miss Clatsop County Scholarship Program 2026
DESCRIPTION:January 9-10\, The Miss Clatsop County Scholarship Program will be holding their annual scholarship program\, starts at 6:30pm\, doors open at 6pm. Click here for ticket details!
URL:https://seasideconvention.com/event/miss-clatsop-county-scholarship-program-2026/
LOCATION:Seaside Civic & Convention Center\, 415 First Avenue\, Seaside\, OR\, 97138\, United States
ATTACH;FMTTYPE=image/jpeg:https://seasideconvention.com/wp-content/uploads/2021/01/331308644_944337136925642_5213362992419991583_n-e1676653156422.jpg
GEO:45.9941136;-123.9253166
X-APPLE-STRUCTURED-LOCATION;VALUE=URI;X-ADDRESS=Seaside Civic & Convention Center 415 First Avenue Seaside OR 97138 United States;X-APPLE-RADIUS=500;X-TITLE=415 First Avenue:geo:-123.9253166,45.9941136
END:VEVENT
BEGIN:VEVENT
DTSTART;VALUE=DATE:20250221
DTEND;VALUE=DATE:20250223
DTSTAMP:20260421T082318
CREATED:20231027T170714Z
LAST-MODIFIED:20250213T204714Z
UID:10001527-1740096000-1740268799@seasideconvention.com
SUMMARY:Miss Clatsop County Scholarship Program 2025
DESCRIPTION:The Miss Clatsop County Scholarship Program is a nonprofit volunteer-based organization that prides itself on empowering women in Clatsop\, Tillamook and Columbia Counties to achieve their personal and professional goals\, while providing a forum in which to express their opinions\, talent\, and intelligence. The public is invited to the following events: \nFriday: 6pm-8:30pm Miss Clatsop Social Impact Showcase & Auction \nSaturday: 6:30pm (doors open 6pm) Miss Clatsop County Scholarship Program (Click here to purchase your tickets)
URL:https://seasideconvention.com/event/miss-clatsop-county-scholarship-program-2025/
LOCATION:Seaside Civic & Convention Center\, 415 First Avenue\, Seaside\, OR\, 97138\, United States
ATTACH;FMTTYPE=image/jpeg:https://seasideconvention.com/wp-content/uploads/2021/01/331308644_944337136925642_5213362992419991583_n-e1676653156422.jpg
GEO:45.9941136;-123.9253166
X-APPLE-STRUCTURED-LOCATION;VALUE=URI;X-ADDRESS=Seaside Civic & Convention Center 415 First Avenue Seaside OR 97138 United States;X-APPLE-RADIUS=500;X-TITLE=415 First Avenue:geo:-123.9253166,45.9941136
END:VEVENT
BEGIN:VEVENT
DTSTART;VALUE=DATE:20240223
DTEND;VALUE=DATE:20240225
DTSTAMP:20260421T082318
CREATED:20221216T173517Z
LAST-MODIFIED:20240221T164157Z
UID:10001460-1708646400-1708819199@seasideconvention.com
SUMMARY:Miss Clatsop County Scholarship Program 2024
DESCRIPTION:The Miss Clatsop County Scholarship Program is a nonprofit volunteer-based organization that prides itself on empowering women in Clatsop\, Tillamook and Columbia Counties to achieve their personal and professional goals\, while providing a forum in which to express their opinions\, talent\, and intelligence. \nThe pageant takes place at 6:30 p.m. (doors open 6p.m.) Saturday\, February 24th. Purchase tickets by clicking here.
URL:https://seasideconvention.com/event/miss-clatsop-county-scholarship-program-4/
LOCATION:Seaside Civic & Convention Center\, 415 First Avenue\, Seaside\, OR\, 97138\, United States
ATTACH;FMTTYPE=image/jpeg:https://seasideconvention.com/wp-content/uploads/2021/01/331308644_944337136925642_5213362992419991583_n-e1676653156422.jpg
GEO:45.9941136;-123.9253166
X-APPLE-STRUCTURED-LOCATION;VALUE=URI;X-ADDRESS=Seaside Civic & Convention Center 415 First Avenue Seaside OR 97138 United States;X-APPLE-RADIUS=500;X-TITLE=415 First Avenue:geo:-123.9253166,45.9941136
END:VEVENT
BEGIN:VEVENT
DTSTART;VALUE=DATE:20230224
DTEND;VALUE=DATE:20230226
DTSTAMP:20260421T082318
CREATED:20210105T202528Z
LAST-MODIFIED:20230217T165925Z
UID:10001664-1677196800-1677369599@seasideconvention.com
SUMMARY:Miss Clatsop County Scholarship Program
DESCRIPTION:The Miss Clatsop County Scholarship Program is a nonprofit volunteer-based organization that prides itself on empowering women in Clatsop\, Tillamook and Columbia Counties to achieve their personal and professional goals\, while providing a forum in which to express their opinions\, talent\, and intelligence. \nThe pageant takes place at 6:30 p.m. (doors open 6:00p.m.) Saturday\, February 25th. Tickets can be purchased by clicking here
URL:https://seasideconvention.com/event/miss-clatsop-county-scholarship-program-2/
LOCATION:Seaside Civic & Convention Center\, 415 First Avenue\, Seaside\, OR\, 97138\, United States
ATTACH;FMTTYPE=image/jpeg:https://seasideconvention.com/wp-content/uploads/2021/01/331308644_944337136925642_5213362992419991583_n-e1676653156422.jpg
GEO:45.9941136;-123.9253166
X-APPLE-STRUCTURED-LOCATION;VALUE=URI;X-ADDRESS=Seaside Civic & Convention Center 415 First Avenue Seaside OR 97138 United States;X-APPLE-RADIUS=500;X-TITLE=415 First Avenue:geo:-123.9253166,45.9941136
END:VEVENT
BEGIN:VEVENT
DTSTART;VALUE=DATE:20220318
DTEND;VALUE=DATE:20220320
DTSTAMP:20260421T082318
CREATED:20220110T180029Z
LAST-MODIFIED:20220316T194828Z
UID:10001385-1647561600-1647734399@seasideconvention.com
SUMMARY:Miss Clatsop County Scholarship Program
DESCRIPTION:The Miss Clatsop County Scholarship Program is a nonprofit volunteer-based organization that prides itself on empowering women in Clatsop\, Tillamook and Columbia Counties to achieve their personal and professional goals\, while providing a forum in which to express their opinions\, talent\, and intelligence. \nThe pageant takes place at 7 p.m. (doors open 6:30p.m.) Saturday\, March 19th. For any ticketing questions\, follow this link: https://www.eventbrite.com/e/266473568617 \n 
URL:https://seasideconvention.com/event/miss-clatsop-county-scholarship-program-3/
LOCATION:Seaside Civic & Convention Center\, 415 First Avenue\, Seaside\, OR\, 97138\, United States
ATTACH;FMTTYPE=image/jpeg:https://seasideconvention.com/wp-content/uploads/2022/01/Miss-Clatsop-County-Scholarship-Pageant-2022-e1647460103321.jpg
GEO:45.9941136;-123.9253166
X-APPLE-STRUCTURED-LOCATION;VALUE=URI;X-ADDRESS=Seaside Civic & Convention Center 415 First Avenue Seaside OR 97138 United States;X-APPLE-RADIUS=500;X-TITLE=415 First Avenue:geo:-123.9253166,45.9941136
END:VEVENT
BEGIN:VEVENT
DTSTART;VALUE=DATE:20200228
DTEND;VALUE=DATE:20200301
DTSTAMP:20260421T082318
CREATED:20190403T214738Z
LAST-MODIFIED:20200212T230614Z
UID:10001419-1582848000-1583020799@seasideconvention.com
SUMMARY:Miss Clatsop County Scholarship Program
DESCRIPTION:The Miss Clatsop County Scholarship Program is a nonprofit volunteer-based organization that prides itself on empowering women in Clatsop\, Tillamook and Columbia Counties to achieve their personal and professional goals\, while providing a forum in which to express their opinions\, talent\, and intelligence. \nThe pageant takes place at 7 p.m. (doors open 6:30p.m.) Saturday\, Feb. 29th. Tickets may be purchased here. For any ticketing questions\, contact the Miss Clatsop County Scholarship Program at 503-717-3501 or director@missclatsopcounty.org.
URL:https://seasideconvention.com/event/miss-clatsop-county-scholarship-program/
LOCATION:Seaside Civic & Convention Center\, 415 First Avenue\, Seaside\, OR\, 97138\, United States
ATTACH;FMTTYPE=image/png:https://seasideconvention.com/wp-content/uploads/2020/02/Miss-Clatsop-County-e1581548832911.png
GEO:45.9941136;-123.9253166
X-APPLE-STRUCTURED-LOCATION;VALUE=URI;X-ADDRESS=Seaside Civic & Convention Center 415 First Avenue Seaside OR 97138 United States;X-APPLE-RADIUS=500;X-TITLE=415 First Avenue:geo:-123.9253166,45.9941136
END:VEVENT
BEGIN:VEVENT
DTSTART;VALUE=DATE:20190611
DTEND;VALUE=DATE:20190612
DTSTAMP:20260421T082318
CREATED:20190520T165004Z
LAST-MODIFIED:20190520T165004Z
UID:10001176-1560211200-1560297599@seasideconvention.com
SUMMARY:Miss Clatsop County Rehearsal
DESCRIPTION:Private Event
URL:https://seasideconvention.com/event/miss-clatsop-county-rehearsal-3/
LOCATION:Seaside Civic & Convention Center\, 415 First Avenue\, Seaside\, OR\, 97138\, United States
ATTACH;FMTTYPE=image/jpeg:https://seasideconvention.com/wp-content/uploads/2019/04/Miss-Clatsop-County-e1554328152952.jpg
GEO:45.9941136;-123.9253166
X-APPLE-STRUCTURED-LOCATION;VALUE=URI;X-ADDRESS=Seaside Civic & Convention Center 415 First Avenue Seaside OR 97138 United States;X-APPLE-RADIUS=500;X-TITLE=415 First Avenue:geo:-123.9253166,45.9941136
END:VEVENT
BEGIN:VEVENT
DTSTART;VALUE=DATE:20190125
DTEND;VALUE=DATE:20190127
DTSTAMP:20260421T082318
CREATED:20180423T190510Z
LAST-MODIFIED:20190115T172647Z
UID:10001339-1548374400-1548547199@seasideconvention.com
SUMMARY:Miss Clatsop County Pageant
DESCRIPTION:The Miss Clatsop County Scholarship Program is a nonprofit volunteer-based organization that prides itself on empowering women in Clatsop\, Tillamook and Columbia Counties to achieve their personal and professional goals\, while providing a forum in which to express their opinions\, talent\, and intelligence. \nThe pageant takes place at 7 p.m. Saturday\, Jan. 26. Tickets may be purchased here. For any ticketing questions\, contact the Miss Clatsop County Scholarship Program at 503-717-3501 or director@missclatsopcounty.org.
URL:https://seasideconvention.com/event/miss-clatsop-county-pageant-2/
LOCATION:Seaside Civic & Convention Center\, 415 First Avenue\, Seaside\, OR\, 97138\, United States
ATTACH;FMTTYPE=image/jpeg:https://seasideconvention.com/wp-content/uploads/2017/11/Miss-Clatsop-County-e1520637824301.jpg
GEO:45.9941136;-123.9253166
X-APPLE-STRUCTURED-LOCATION;VALUE=URI;X-ADDRESS=Seaside Civic & Convention Center 415 First Avenue Seaside OR 97138 United States;X-APPLE-RADIUS=500;X-TITLE=415 First Avenue:geo:-123.9253166,45.9941136
END:VEVENT
BEGIN:VEVENT
DTSTART;VALUE=DATE:20180618
DTEND;VALUE=DATE:20180619
DTSTAMP:20260421T082318
CREATED:20180531T210346Z
LAST-MODIFIED:20180601T185829Z
UID:10001345-1529280000-1529366399@seasideconvention.com
SUMMARY:Miss Clatsop County Rehearsal
DESCRIPTION:Private Event
URL:https://seasideconvention.com/event/miss-clatsop-county-rehearsal-2/
LOCATION:Seaside Civic & Convention Center\, 415 First Avenue\, Seaside\, OR\, 97138\, United States
ATTACH;FMTTYPE=image/jpeg:https://seasideconvention.com/wp-content/uploads/2018/05/Miss-Clatsop-County-2-e1527879502780.jpg
GEO:45.9941136;-123.9253166
X-APPLE-STRUCTURED-LOCATION;VALUE=URI;X-ADDRESS=Seaside Civic & Convention Center 415 First Avenue Seaside OR 97138 United States;X-APPLE-RADIUS=500;X-TITLE=415 First Avenue:geo:-123.9253166,45.9941136
END:VEVENT
BEGIN:VEVENT
DTSTART;VALUE=DATE:20180604
DTEND;VALUE=DATE:20180605
DTSTAMP:20260421T082318
CREATED:20180531T210240Z
LAST-MODIFIED:20180601T185908Z
UID:10001344-1528070400-1528156799@seasideconvention.com
SUMMARY:Miss Clatsop County Rehearsal
DESCRIPTION:Private Event
URL:https://seasideconvention.com/event/miss-clatsop-county-rehearsal/
LOCATION:Seaside Civic & Convention Center\, 415 First Avenue\, Seaside\, OR\, 97138\, United States
ATTACH;FMTTYPE=image/jpeg:https://seasideconvention.com/wp-content/uploads/2018/05/Miss-Clatsop-County-2-e1527879502780.jpg
GEO:45.9941136;-123.9253166
X-APPLE-STRUCTURED-LOCATION;VALUE=URI;X-ADDRESS=Seaside Civic & Convention Center 415 First Avenue Seaside OR 97138 United States;X-APPLE-RADIUS=500;X-TITLE=415 First Avenue:geo:-123.9253166,45.9941136
END:VEVENT
BEGIN:VEVENT
DTSTART;VALUE=DATE:20180202
DTEND;VALUE=DATE:20180204
DTSTAMP:20260421T082318
CREATED:20171101T213722Z
LAST-MODIFIED:20180125T191151Z
UID:10001051-1517529600-1517702399@seasideconvention.com
SUMMARY:Miss Clatsop County Pageant
DESCRIPTION:The Miss Clatsop County Scholarship Program is a nonprofit volunteer-based organization that prides itself on empowering women in Clatsop\, Tillamook and Columbia Counties to achieve their personal and professional goals\, while providing a forum in which to express their opinions\, talent\, and intelligence. \nThe pageant takes place at 7 p.m. Saturday\, Feb. 3. Tickets may be purchased here. For any ticketing questions\, contact the Miss Clatsop County Scholarship Program at 503-7171-3501 or director@missclatsopcounty.org.
URL:https://seasideconvention.com/event/miss-clatsop-county-pageant/
LOCATION:Seaside Civic & Convention Center\, 415 First Avenue\, Seaside\, OR\, 97138\, United States
ATTACH;FMTTYPE=image/jpeg:https://seasideconvention.com/wp-content/uploads/2017/11/Miss-Clatsop-County-e1520637824301.jpg
GEO:45.9941136;-123.9253166
X-APPLE-STRUCTURED-LOCATION;VALUE=URI;X-ADDRESS=Seaside Civic & Convention Center 415 First Avenue Seaside OR 97138 United States;X-APPLE-RADIUS=500;X-TITLE=415 First Avenue:geo:-123.9253166,45.9941136
END:VEVENT
END:VCALENDAR