BEGIN:VCALENDAR
VERSION:2.0
PRODID:-//Seaside | Civic &amp; Convention Center - ECPv6.15.11//NONSGML v1.0//EN
CALSCALE:GREGORIAN
METHOD:PUBLISH
X-WR-CALNAME:Seaside | Civic &amp; Convention Center
X-ORIGINAL-URL:https://seasideconvention.com
X-WR-CALDESC:Events for Seaside | Civic &amp; Convention Center
REFRESH-INTERVAL;VALUE=DURATION:PT1H
X-Robots-Tag:noindex
X-PUBLISHED-TTL:PT1H
BEGIN:VTIMEZONE
TZID:UTC
BEGIN:STANDARD
TZOFFSETFROM:+0000
TZOFFSETTO:+0000
TZNAME:UTC
DTSTART:20170101T000000
END:STANDARD
END:VTIMEZONE
BEGIN:VEVENT
DTSTART;VALUE=DATE:20241020
DTEND;VALUE=DATE:20241023
DTSTAMP:20260422T111157
CREATED:20220415T180014Z
LAST-MODIFIED:20240815T182537Z
UID:10001801-1729382400-1729641599@seasideconvention.com
SUMMARY:NW Rental Association Conference 2024
DESCRIPTION:Register here for the upcoming Northwest Rental Association Conference!
URL:https://seasideconvention.com/event/nw-rental-association-conference-2/
LOCATION:Seaside Civic & Convention Center\, 415 First Avenue\, Seaside\, OR\, 97138\, United States
ATTACH;FMTTYPE=image/webp:https://seasideconvention.com/wp-content/uploads/2022/04/crw_947h_500-e1723746212669.webp
GEO:45.9941136;-123.9253166
X-APPLE-STRUCTURED-LOCATION;VALUE=URI;X-ADDRESS=Seaside Civic & Convention Center 415 First Avenue Seaside OR 97138 United States;X-APPLE-RADIUS=500;X-TITLE=415 First Avenue:geo:-123.9253166,45.9941136
END:VEVENT
BEGIN:VEVENT
DTSTART;VALUE=DATE:20221016
DTEND;VALUE=DATE:20221019
DTSTAMP:20260422T111157
CREATED:20211109T234925Z
LAST-MODIFIED:20221017T152719Z
UID:10001755-1665878400-1666137599@seasideconvention.com
SUMMARY:Northwest Rental Conference Association
DESCRIPTION:Northwest Rental Conference is a trade show that caters to rental store staff\, owners and vendors in the rental trade.
URL:https://seasideconvention.com/event/northwest-rental-conference-association/
LOCATION:Seaside Civic & Convention Center\, 415 First Avenue\, Seaside\, OR\, 97138\, United States
ATTACH;FMTTYPE=image/png:https://seasideconvention.com/wp-content/uploads/2021/11/Northwest-Rental-Conference-Association.png
GEO:45.9941136;-123.9253166
X-APPLE-STRUCTURED-LOCATION;VALUE=URI;X-ADDRESS=Seaside Civic & Convention Center 415 First Avenue Seaside OR 97138 United States;X-APPLE-RADIUS=500;X-TITLE=415 First Avenue:geo:-123.9253166,45.9941136
END:VEVENT
BEGIN:VEVENT
DTSTART;VALUE=DATE:20181014
DTEND;VALUE=DATE:20181017
DTSTAMP:20260422T111157
CREATED:20171107T232749Z
LAST-MODIFIED:20171128T200159Z
UID:10001119-1539475200-1539734399@seasideconvention.com
SUMMARY:NW Rental Association Conference
DESCRIPTION:Private Event
URL:https://seasideconvention.com/event/nw-rental-association-conference/
LOCATION:Seaside Civic & Convention Center\, 415 First Avenue\, Seaside\, OR\, 97138\, United States
ATTACH;FMTTYPE=image/jpeg:https://seasideconvention.com/wp-content/uploads/2017/11/Seamist-3-e1511899300441.jpg
GEO:45.9941136;-123.9253166
X-APPLE-STRUCTURED-LOCATION;VALUE=URI;X-ADDRESS=Seaside Civic & Convention Center 415 First Avenue Seaside OR 97138 United States;X-APPLE-RADIUS=500;X-TITLE=415 First Avenue:geo:-123.9253166,45.9941136
END:VEVENT
BEGIN:VEVENT
DTSTART;VALUE=DATE:20180425
DTEND;VALUE=DATE:20180426
DTSTAMP:20260422T111157
CREATED:20180228T192432Z
LAST-MODIFIED:20180228T192432Z
UID:10001318-1524614400-1524700799@seasideconvention.com
SUMMARY:NW Rental Association Preconference Meeting
DESCRIPTION:Private Meeting
URL:https://seasideconvention.com/event/nw-rental-association-preconference-meeting/
LOCATION:Seaside Civic & Convention Center\, 415 First Avenue\, Seaside\, OR\, 97138\, United States
ATTACH;FMTTYPE=image/jpeg:https://seasideconvention.com/wp-content/uploads/2017/11/Seamist-3-e1511899300441.jpg
GEO:45.9941136;-123.9253166
X-APPLE-STRUCTURED-LOCATION;VALUE=URI;X-ADDRESS=Seaside Civic & Convention Center 415 First Avenue Seaside OR 97138 United States;X-APPLE-RADIUS=500;X-TITLE=415 First Avenue:geo:-123.9253166,45.9941136
END:VEVENT
END:VCALENDAR