BEGIN:VCALENDAR
VERSION:2.0
PRODID:-//Seaside | Civic &amp; Convention Center - ECPv6.15.11//NONSGML v1.0//EN
CALSCALE:GREGORIAN
METHOD:PUBLISH
X-ORIGINAL-URL:https://seasideconvention.com
X-WR-CALDESC:Events for Seaside | Civic &amp; Convention Center
REFRESH-INTERVAL;VALUE=DURATION:PT1H
X-Robots-Tag:noindex
X-PUBLISHED-TTL:PT1H
BEGIN:VTIMEZONE
TZID:UTC
BEGIN:STANDARD
TZOFFSETFROM:+0000
TZOFFSETTO:+0000
TZNAME:UTC
DTSTART:20170101T000000
END:STANDARD
END:VTIMEZONE
BEGIN:VEVENT
DTSTART;VALUE=DATE:20250424
DTEND;VALUE=DATE:20250427
DTSTAMP:20260420T154025
CREATED:20190321T233451Z
LAST-MODIFIED:20240411T165303Z
UID:10001170-1745452800-1745711999@seasideconvention.com
SUMMARY:Oregon State Elks Association 2025
DESCRIPTION:Seaside welcomes back the Oregon State Elks Convention. Elks invest in their communities through programs that help children grow up healthy and drug-free\, meet the needs of today’s veterans\, and improve the quality of life.
URL:https://seasideconvention.com/event/oregon-state-elks-association/
LOCATION:Seaside Civic & Convention Center\, 415 First Avenue\, Seaside\, OR\, 97138\, United States
ATTACH;FMTTYPE=image/png:https://seasideconvention.com/wp-content/uploads/2019/03/images.png
GEO:45.9941136;-123.9253166
X-APPLE-STRUCTURED-LOCATION;VALUE=URI;X-ADDRESS=Seaside Civic & Convention Center 415 First Avenue Seaside OR 97138 United States;X-APPLE-RADIUS=500;X-TITLE=415 First Avenue:geo:-123.9253166,45.9941136
END:VEVENT
BEGIN:VEVENT
DTSTART;VALUE=DATE:20240425
DTEND;VALUE=DATE:20240428
DTSTAMP:20260420T154025
CREATED:20190321T233201Z
LAST-MODIFIED:20240411T165238Z
UID:10001169-1714003200-1714262399@seasideconvention.com
SUMMARY:Oregon State Elks Convention 2024
DESCRIPTION:Seaside welcomes back the Oregon State Elks Convention. Elks invest in their communities through programs that help children grow up healthy and drug-free\, meet the needs of today’s veterans\, and improve the quality of life.
URL:https://seasideconvention.com/event/oregon-state-elks-convention-5/
LOCATION:Seaside Civic & Convention Center\, 415 First Avenue\, Seaside\, OR\, 97138\, United States
ATTACH;FMTTYPE=image/png:https://seasideconvention.com/wp-content/uploads/2019/03/images.png
GEO:45.9941136;-123.9253166
X-APPLE-STRUCTURED-LOCATION;VALUE=URI;X-ADDRESS=Seaside Civic & Convention Center 415 First Avenue Seaside OR 97138 United States;X-APPLE-RADIUS=500;X-TITLE=415 First Avenue:geo:-123.9253166,45.9941136
END:VEVENT
BEGIN:VEVENT
DTSTART;VALUE=DATE:20230427
DTEND;VALUE=DATE:20230430
DTSTAMP:20260420T154025
CREATED:20171207T004952Z
LAST-MODIFIED:20220316T233626Z
UID:10001224-1682553600-1682812799@seasideconvention.com
SUMMARY:Oregon State Elks Convention
DESCRIPTION:Seaside welcomes back the Oregon State Elks Convention. Elks invest in their communities through programs that help children grow up healthy and drug-free\, meet the needs of today’s veterans\, and improve the quality of life.
URL:https://seasideconvention.com/event/oregon-state-elks-convention-4/
LOCATION:Seaside Civic & Convention Center\, 415 First Avenue\, Seaside\, OR\, 97138\, United States
ATTACH;FMTTYPE=image/jpeg:https://seasideconvention.com/wp-content/uploads/2017/12/oregon-elks-assn-logo-2022-e1647472559805.jpg
GEO:45.9941136;-123.9253166
X-APPLE-STRUCTURED-LOCATION;VALUE=URI;X-ADDRESS=Seaside Civic & Convention Center 415 First Avenue Seaside OR 97138 United States;X-APPLE-RADIUS=500;X-TITLE=415 First Avenue:geo:-123.9253166,45.9941136
END:VEVENT
BEGIN:VEVENT
DTSTART;VALUE=DATE:20220421
DTEND;VALUE=DATE:20220424
DTSTAMP:20260420T154025
CREATED:20171206T231448Z
LAST-MODIFIED:20220413T155856Z
UID:10001093-1650499200-1650758399@seasideconvention.com
SUMMARY:Oregon State Elks Convention
DESCRIPTION:Seaside welcomes back the Oregon State Elks Convention. Elks invest in their communities through programs that help children grow up healthy and drug-free\, meet the needs of today’s veterans\, and improve the quality of life.
URL:https://seasideconvention.com/event/oregon-state-elks-convention-3/
LOCATION:Seaside Civic & Convention Center\, 415 First Avenue\, Seaside\, OR\, 97138\, United States
ATTACH;FMTTYPE=image/jpeg:https://seasideconvention.com/wp-content/uploads/2017/12/Elks-Seaside-Screen-Logo--scaled-e1649865502704.jpg
GEO:45.9941136;-123.9253166
X-APPLE-STRUCTURED-LOCATION;VALUE=URI;X-ADDRESS=Seaside Civic & Convention Center 415 First Avenue Seaside OR 97138 United States;X-APPLE-RADIUS=500;X-TITLE=415 First Avenue:geo:-123.9253166,45.9941136
END:VEVENT
BEGIN:VEVENT
DTSTART;VALUE=DATE:20180426
DTEND;VALUE=DATE:20180429
DTSTAMP:20260420T154025
CREATED:20171103T175456Z
LAST-MODIFIED:20171103T231230Z
UID:10001083-1524700800-1524959999@seasideconvention.com
SUMMARY:Oregon State Elks Convention
DESCRIPTION:Seaside welcomes back the Oregon State Elks Convention. Elks invest in their communities through programs that help children grow up healthy and drug-free\, meet the needs of today’s veterans\, and improve the quality of life. \n 
URL:https://seasideconvention.com/event/oregon-state-elks-convention/
LOCATION:Seaside Civic & Convention Center\, 415 First Avenue\, Seaside\, OR\, 97138\, United States
ATTACH;FMTTYPE=image/png:https://seasideconvention.com/wp-content/uploads/2017/11/OR-State-Elks.png
GEO:45.9941136;-123.9253166
X-APPLE-STRUCTURED-LOCATION;VALUE=URI;X-ADDRESS=Seaside Civic & Convention Center 415 First Avenue Seaside OR 97138 United States;X-APPLE-RADIUS=500;X-TITLE=415 First Avenue:geo:-123.9253166,45.9941136
END:VEVENT
END:VCALENDAR