BEGIN:VCALENDAR
VERSION:2.0
PRODID:-//Seaside | Civic &amp; Convention Center - ECPv6.15.11//NONSGML v1.0//EN
CALSCALE:GREGORIAN
METHOD:PUBLISH
X-ORIGINAL-URL:https://seasideconvention.com
X-WR-CALDESC:Events for Seaside | Civic &amp; Convention Center
REFRESH-INTERVAL;VALUE=DURATION:PT1H
X-Robots-Tag:noindex
X-PUBLISHED-TTL:PT1H
BEGIN:VTIMEZONE
TZID:UTC
BEGIN:STANDARD
TZOFFSETFROM:+0000
TZOFFSETTO:+0000
TZNAME:UTC
DTSTART:20250101T000000
END:STANDARD
END:VTIMEZONE
BEGIN:VEVENT
DTSTART;VALUE=DATE:20260604
DTEND;VALUE=DATE:20260608
DTSTAMP:20260419T151947
CREATED:20220415T180344Z
LAST-MODIFIED:20230517T154743Z
UID:10001802-1780531200-1780876799@seasideconvention.com
SUMMARY:Sea Pac Ham Convention 2026
DESCRIPTION:The Northwest’s Largest Ham Convention! 3 Full days of activity June 4 – June 7\, 2026. Visit their website for registration details! \nRegistration at the door at the Convention Center $15: \nFriday: 8:00 AM to 9:00 AM – Walk-in Workshop Registration \nFriday: 9:00 AM to 8:00 PM – General Registration & Will Call \nSaturday: 8:00 AM to 4:00 PM \nSunday: 8:30 AM to 2:00 PM
URL:https://seasideconvention.com/event/sea-pac-ham-convention-4/
LOCATION:Seaside Civic & Convention Center\, 415 First Avenue\, Seaside\, OR\, 97138\, United States
ATTACH;FMTTYPE=image/png:https://seasideconvention.com/wp-content/uploads/2017/12/Sea-pac-logo-2022.png
GEO:45.9941136;-123.9253166
X-APPLE-STRUCTURED-LOCATION;VALUE=URI;X-ADDRESS=Seaside Civic & Convention Center 415 First Avenue Seaside OR 97138 United States;X-APPLE-RADIUS=500;X-TITLE=415 First Avenue:geo:-123.9253166,45.9941136
END:VEVENT
BEGIN:VEVENT
DTSTART;VALUE=DATE:20270603
DTEND;VALUE=DATE:20270607
DTSTAMP:20260419T151947
CREATED:20220415T180554Z
LAST-MODIFIED:20230517T154950Z
UID:10001803-1811980800-1812326399@seasideconvention.com
SUMMARY:Sea Pac Ham Convention 2027
DESCRIPTION:The Northwest’s Largest Ham Convention! 3 Full days of activity June 3 – June 6\, 2027. Visit their website for registration details! \nRegistration at the door at the Convention Center $15: \nFriday: 8:00 AM to 9:00 AM – Walk-in Workshop Registration \nFriday: 9:00 AM to 8:00 PM – General Registration & Will Call \nSaturday: 8:00 AM to 4:00 PM \nSunday: 8:30 AM to 2:00 PM
URL:https://seasideconvention.com/event/sea-pac-ham-convention-9/
LOCATION:Seaside Civic & Convention Center\, 415 First Avenue\, Seaside\, OR\, 97138\, United States
ATTACH;FMTTYPE=image/png:https://seasideconvention.com/wp-content/uploads/2017/12/Sea-pac-logo-2022.png
GEO:45.9941136;-123.9253166
X-APPLE-STRUCTURED-LOCATION;VALUE=URI;X-ADDRESS=Seaside Civic & Convention Center 415 First Avenue Seaside OR 97138 United States;X-APPLE-RADIUS=500;X-TITLE=415 First Avenue:geo:-123.9253166,45.9941136
END:VEVENT
BEGIN:VEVENT
DTSTART;VALUE=DATE:20280601
DTEND;VALUE=DATE:20280605
DTSTAMP:20260419T151947
CREATED:20220415T180728Z
LAST-MODIFIED:20230517T155034Z
UID:10001804-1843430400-1843775999@seasideconvention.com
SUMMARY:Sea Pac Ham Convention 2028
DESCRIPTION:The Northwest’s Largest Ham Convention! 3 Full days of activity June 1 – June 4\, 2028. Visit their website for registration details! \nRegistration at the door at the Convention Center $15: \nFriday: 8:00 AM to 9:00 AM – Walk-in Workshop Registration \nFriday: 9:00 AM to 8:00 PM – General Registration & Will Call \nSaturday: 8:00 AM to 4:00 PM \nSunday: 8:30 AM to 2:00 PM
URL:https://seasideconvention.com/event/sea-pac-ham-convention-10/
LOCATION:Seaside Civic & Convention Center\, 415 First Avenue\, Seaside\, OR\, 97138\, United States
ATTACH;FMTTYPE=image/png:https://seasideconvention.com/wp-content/uploads/2017/12/Sea-pac-logo-2022.png
GEO:45.9941136;-123.9253166
X-APPLE-STRUCTURED-LOCATION;VALUE=URI;X-ADDRESS=Seaside Civic & Convention Center 415 First Avenue Seaside OR 97138 United States;X-APPLE-RADIUS=500;X-TITLE=415 First Avenue:geo:-123.9253166,45.9941136
END:VEVENT
BEGIN:VEVENT
DTSTART;VALUE=DATE:20290531
DTEND;VALUE=DATE:20290604
DTSTAMP:20260419T151947
CREATED:20220415T181247Z
LAST-MODIFIED:20230517T155119Z
UID:10001805-1874880000-1875225599@seasideconvention.com
SUMMARY:Sea Pac Ham Convention 2029
DESCRIPTION:The Northwest’s Largest Ham Convention! 3 Full days of activity May 31 – June 3\, 2029. Visit their website for registration details! \nRegistration at the door at the Convention Center $15: \nFriday: 8:00 AM to 9:00 AM – Walk-in Workshop Registration \nFriday: 9:00 AM to 8:00 PM – General Registration & Will Call \nSaturday: 8:00 AM to 4:00 PM \nSunday: 8:30 AM to 2:00 PM
URL:https://seasideconvention.com/event/sea-pac-ham-convention-11/
LOCATION:Seaside Civic & Convention Center\, 415 First Avenue\, Seaside\, OR\, 97138\, United States
ATTACH;FMTTYPE=image/png:https://seasideconvention.com/wp-content/uploads/2017/12/Sea-pac-logo-2022.png
GEO:45.9941136;-123.9253166
X-APPLE-STRUCTURED-LOCATION;VALUE=URI;X-ADDRESS=Seaside Civic & Convention Center 415 First Avenue Seaside OR 97138 United States;X-APPLE-RADIUS=500;X-TITLE=415 First Avenue:geo:-123.9253166,45.9941136
END:VEVENT
BEGIN:VEVENT
DTSTART;VALUE=DATE:20300530
DTEND;VALUE=DATE:20300603
DTSTAMP:20260419T151947
CREATED:20220415T181418Z
LAST-MODIFIED:20230517T163238Z
UID:10001806-1906329600-1906675199@seasideconvention.com
SUMMARY:Sea Pac Ham Convention 2030
DESCRIPTION:The Northwest’s Largest Ham Convention! 3 Full days of activity May 30 – June 2\, 2030. Visit their website for registration details! \nRegistration at the door at the Convention Center $15: \nFriday: 8:00 AM to 9:00 AM – Walk-in Workshop Registration \nFriday: 9:00 AM to 8:00 PM – General Registration & Will Call \nSaturday: 8:00 AM to 4:00 PM \nSunday: 8:30 AM to 2:00 PM
URL:https://seasideconvention.com/event/sea-pac-ham-convention-12/
LOCATION:Seaside Civic & Convention Center\, 415 First Avenue\, Seaside\, OR\, 97138\, United States
ATTACH;FMTTYPE=image/png:https://seasideconvention.com/wp-content/uploads/2017/12/Sea-pac-logo-2022.png
GEO:45.9941136;-123.9253166
X-APPLE-STRUCTURED-LOCATION;VALUE=URI;X-ADDRESS=Seaside Civic & Convention Center 415 First Avenue Seaside OR 97138 United States;X-APPLE-RADIUS=500;X-TITLE=415 First Avenue:geo:-123.9253166,45.9941136
END:VEVENT
BEGIN:VEVENT
DTSTART;VALUE=DATE:20310529
DTEND;VALUE=DATE:20310602
DTSTAMP:20260419T151947
CREATED:20220415T181557Z
LAST-MODIFIED:20230517T163329Z
UID:10001807-1937779200-1938124799@seasideconvention.com
SUMMARY:Sea Pac Ham Convention 2031
DESCRIPTION:The Northwest’s Largest Ham Convention! 3 Full days of activity May 29 – June 1\, 2031. Visit their website for registration details! \nRegistration at the door at the Convention Center $15: \nFriday: 8:00 AM to 9:00 AM – Walk-in Workshop Registration \nFriday: 9:00 AM to 8:00 PM – General Registration & Will Call \nSaturday: 8:00 AM to 4:00 PM \nSunday: 8:30 AM to 2:00 PM
URL:https://seasideconvention.com/event/sea-pac-ham-convention-13/
LOCATION:Seaside Civic & Convention Center\, 415 First Avenue\, Seaside\, OR\, 97138\, United States
ATTACH;FMTTYPE=image/png:https://seasideconvention.com/wp-content/uploads/2017/12/Sea-pac-logo-2022.png
GEO:45.9941136;-123.9253166
X-APPLE-STRUCTURED-LOCATION;VALUE=URI;X-ADDRESS=Seaside Civic & Convention Center 415 First Avenue Seaside OR 97138 United States;X-APPLE-RADIUS=500;X-TITLE=415 First Avenue:geo:-123.9253166,45.9941136
END:VEVENT
BEGIN:VEVENT
DTSTART;VALUE=DATE:20320603
DTEND;VALUE=DATE:20320607
DTSTAMP:20260419T151947
CREATED:20220415T181731Z
LAST-MODIFIED:20230517T163413Z
UID:10001418-1969833600-1970179199@seasideconvention.com
SUMMARY:Sea Pac Ham Convention 2032
DESCRIPTION:The Northwest’s Largest Ham Convention! 3 Full days of activity June 3 – June 6\, 2032. Visit their website for registration details! \nRegistration at the door at the Convention Center $15: \nFriday: 8:00 AM to 9:00 AM – Walk-in Workshop Registration \nFriday: 9:00 AM to 8:00 PM – General Registration & Will Call \nSaturday: 8:00 AM to 4:00 PM \nSunday: 8:30 AM to 2:00 PM
URL:https://seasideconvention.com/event/sea-pac-ham-convention-14/
LOCATION:Seaside Civic & Convention Center\, 415 First Avenue\, Seaside\, OR\, 97138\, United States
ATTACH;FMTTYPE=image/png:https://seasideconvention.com/wp-content/uploads/2017/12/Sea-pac-logo-2022.png
GEO:45.9941136;-123.9253166
X-APPLE-STRUCTURED-LOCATION;VALUE=URI;X-ADDRESS=Seaside Civic & Convention Center 415 First Avenue Seaside OR 97138 United States;X-APPLE-RADIUS=500;X-TITLE=415 First Avenue:geo:-123.9253166,45.9941136
END:VEVENT
END:VCALENDAR