BEGIN:VCALENDAR
VERSION:2.0
PRODID:-//Seaside | Civic &amp; Convention Center - ECPv6.15.11//NONSGML v1.0//EN
CALSCALE:GREGORIAN
METHOD:PUBLISH
X-ORIGINAL-URL:https://seasideconvention.com
X-WR-CALDESC:Events for Seaside | Civic &amp; Convention Center
REFRESH-INTERVAL;VALUE=DURATION:PT1H
X-Robots-Tag:noindex
X-PUBLISHED-TTL:PT1H
BEGIN:VTIMEZONE
TZID:UTC
BEGIN:STANDARD
TZOFFSETFROM:+0000
TZOFFSETTO:+0000
TZNAME:UTC
DTSTART:20160101T000000
END:STANDARD
END:VTIMEZONE
BEGIN:VEVENT
DTSTART;VALUE=DATE:20251216
DTEND;VALUE=DATE:20251218
DTSTAMP:20260420T183813
CREATED:20241122T165913Z
LAST-MODIFIED:20251209T223158Z
UID:10001992-1765843200-1766015999@seasideconvention.com
SUMMARY:Santa's Workshop 2025
DESCRIPTION:Need a couple of toys for your children for Christmas?  Rotary Club of Seaside is sponsoring “Santa’s Workshop” to help provide a couple of toys for local children who are in need click here for application.
URL:https://seasideconvention.com/event/santas-workshop-2025/
LOCATION:Seaside Civic & Convention Center\, 415 First Avenue\, Seaside\, OR\, 97138\, United States
ATTACH;FMTTYPE=image/jpeg:https://seasideconvention.com/wp-content/uploads/2024/11/Santas-Workshop.jpg
GEO:45.9941136;-123.9253166
X-APPLE-STRUCTURED-LOCATION;VALUE=URI;X-ADDRESS=Seaside Civic & Convention Center 415 First Avenue Seaside OR 97138 United States;X-APPLE-RADIUS=500;X-TITLE=415 First Avenue:geo:-123.9253166,45.9941136
END:VEVENT
BEGIN:VEVENT
DTSTART;VALUE=DATE:20241216
DTEND;VALUE=DATE:20241219
DTSTAMP:20260420T183813
CREATED:20231219T222849Z
LAST-MODIFIED:20241122T170105Z
UID:10001920-1734307200-1734566399@seasideconvention.com
SUMMARY:Santa's Workshop 2024
DESCRIPTION:Need a couple of toys for your children for Christmas?  Rotary Club of Seaside is sponsoring “Santa’s Workshop” to help provide a couple of toys for local children who are in need on Wednesday\, December 18th click here to register for a time to pick up gifts!
URL:https://seasideconvention.com/event/santas-workshop-2024/
LOCATION:Seaside Civic & Convention Center\, 415 First Avenue\, Seaside\, OR\, 97138\, United States
ATTACH;FMTTYPE=image/jpeg:https://seasideconvention.com/wp-content/uploads/2023/12/Santas-workshop-2024-e1732294962165.jpg
GEO:45.9941136;-123.9253166
X-APPLE-STRUCTURED-LOCATION;VALUE=URI;X-ADDRESS=Seaside Civic & Convention Center 415 First Avenue Seaside OR 97138 United States;X-APPLE-RADIUS=500;X-TITLE=415 First Avenue:geo:-123.9253166,45.9941136
END:VEVENT
BEGIN:VEVENT
DTSTART;VALUE=DATE:20241019
DTEND;VALUE=DATE:20241020
DTSTAMP:20260420T183813
CREATED:20211217T234111Z
LAST-MODIFIED:20240821T185429Z
UID:10001380-1729296000-1729382399@seasideconvention.com
SUMMARY:Seaside Rotary Auction 2024
DESCRIPTION:Rotary Club of Seaside’s annual fundraiser dinner and auction October 19th\, doors open at 5:30 p.m.\, click here for ticket information!
URL:https://seasideconvention.com/event/seaside-rotary-auction-3/
LOCATION:Seaside Civic & Convention Center\, 415 First Avenue\, Seaside\, OR\, 97138\, United States
ATTACH;FMTTYPE=image/png:https://seasideconvention.com/wp-content/uploads/2021/12/1978.png
GEO:45.9941136;-123.9253166
X-APPLE-STRUCTURED-LOCATION;VALUE=URI;X-ADDRESS=Seaside Civic & Convention Center 415 First Avenue Seaside OR 97138 United States;X-APPLE-RADIUS=500;X-TITLE=415 First Avenue:geo:-123.9253166,45.9941136
END:VEVENT
BEGIN:VEVENT
DTSTART;VALUE=DATE:20231218
DTEND;VALUE=DATE:20231221
DTSTAMP:20260420T183813
CREATED:20230224T230559Z
LAST-MODIFIED:20231219T201229Z
UID:10001863-1702857600-1703116799@seasideconvention.com
SUMMARY:Santa's Workshop 2023
DESCRIPTION:Need a couple of toys for your children for Christmas?  Rotary Club of Seaside is sponsoring “Santa’s Workshop” to help provide a couple of toys for local children who are in need – walk in Wednesday\, December 20th from 1:00pm-3:00pm are currently available for toy pick ups.
URL:https://seasideconvention.com/event/santas-workshop-2023/
LOCATION:Seaside Civic & Convention Center\, 415 First Avenue\, Seaside\, OR\, 97138\, United States
ATTACH;FMTTYPE=image/jpeg:https://seasideconvention.com/wp-content/uploads/2023/02/Santas-workshop-2023-2-e1703008418423.jpg
GEO:45.9941136;-123.9253166
X-APPLE-STRUCTURED-LOCATION;VALUE=URI;X-ADDRESS=Seaside Civic & Convention Center 415 First Avenue Seaside OR 97138 United States;X-APPLE-RADIUS=500;X-TITLE=415 First Avenue:geo:-123.9253166,45.9941136
END:VEVENT
BEGIN:VEVENT
DTSTART;VALUE=DATE:20221212
DTEND;VALUE=DATE:20221216
DTSTAMP:20260420T183813
CREATED:20220330T180657Z
LAST-MODIFIED:20221213T171938Z
UID:10001789-1670803200-1671148799@seasideconvention.com
SUMMARY:Seaside Rotary: Santa's Workshop
DESCRIPTION:Need a couple of toys for your children for Christmas?  Rotary Club of Seaside is sponsoring “Santa’s Workshop” to help provide a couple of toys for local children who are in need. If you don’t have an appointment\, please just come check in on at the Seaside Civic & Convention Center on Wednesday\, December 14th from 1:00pm-3:00pm!
URL:https://seasideconvention.com/event/seaside-rotary-santas-workshop-4/
LOCATION:Seaside Civic & Convention Center\, 415 First Avenue\, Seaside\, OR\, 97138\, United States
ATTACH;FMTTYPE=image/jpeg:https://seasideconvention.com/wp-content/uploads/2020/08/Seaside-Rotary-Logo-e1598290517739.jpg
GEO:45.9941136;-123.9253166
X-APPLE-STRUCTURED-LOCATION;VALUE=URI;X-ADDRESS=Seaside Civic & Convention Center 415 First Avenue Seaside OR 97138 United States;X-APPLE-RADIUS=500;X-TITLE=415 First Avenue:geo:-123.9253166,45.9941136
END:VEVENT
BEGIN:VEVENT
DTSTART;VALUE=DATE:20211215
DTEND;VALUE=DATE:20211218
DTSTAMP:20260420T183813
CREATED:20210201T185515Z
LAST-MODIFIED:20211202T231819Z
UID:10001668-1639526400-1639785599@seasideconvention.com
SUMMARY:Seaside Rotary: Santa's Workshop
DESCRIPTION:Need a couple of toys for your children for Christmas?  Rotary Club of Seaside is sponsoring “Santa’s Workshop” to help provide a couple of toys for local children who are in need. \nHere are the details: \n\nToys will be given out to the public at the Seaside Civic & Convention Center on Friday\, December 17th.\nYou MUST call to make an appointment to set-up a time to pick up toys.  Please call Sandy with the Rotary Club of Seaside directly to make an appointment: (503) 717-2266.\nMasks must be worn while in the building.
URL:https://seasideconvention.com/event/seaside-rotary-santas-workshop-3/
LOCATION:Seaside Civic & Convention Center\, 415 First Avenue\, Seaside\, OR\, 97138\, United States
ATTACH;FMTTYPE=image/jpeg:https://seasideconvention.com/wp-content/uploads/2020/08/Seaside-Rotary-Logo-e1598290517739.jpg
GEO:45.9941136;-123.9253166
X-APPLE-STRUCTURED-LOCATION;VALUE=URI;X-ADDRESS=Seaside Civic & Convention Center 415 First Avenue Seaside OR 97138 United States;X-APPLE-RADIUS=500;X-TITLE=415 First Avenue:geo:-123.9253166,45.9941136
END:VEVENT
BEGIN:VEVENT
DTSTART;VALUE=DATE:20211009
DTEND;VALUE=DATE:20211010
DTSTAMP:20260420T183813
CREATED:20201119T190311Z
LAST-MODIFIED:20211007T220234Z
UID:10001617-1633737600-1633823999@seasideconvention.com
SUMMARY:Seaside Rotary Auction
DESCRIPTION:The Rotary Club of Seaside will be hosting their annual foundation auction fundraiser at the Seaside Civic & Convention Center Saturday October 9th\, from 6-7pm!  The event will be virtual this year and you can register for the event in advance\, and bid on dozens of silent auction items. \nTo register\, go to event.gives/rotaryauction2021.  Follow the prompt or registration instructions\,
URL:https://seasideconvention.com/event/seaside-rotary-foundation-fundraiser/
LOCATION:Seaside Civic & Convention Center\, 415 First Avenue\, Seaside\, OR\, 97138\, United States
ATTACH;FMTTYPE=image/jpeg:https://seasideconvention.com/wp-content/uploads/2020/08/Seaside-Rotary-Logo-e1598290517739.jpg
GEO:45.9941136;-123.9253166
X-APPLE-STRUCTURED-LOCATION;VALUE=URI;X-ADDRESS=Seaside Civic & Convention Center 415 First Avenue Seaside OR 97138 United States;X-APPLE-RADIUS=500;X-TITLE=415 First Avenue:geo:-123.9253166,45.9941136
END:VEVENT
BEGIN:VEVENT
DTSTART;TZID=UTC:20210520T120000
DTEND;TZID=UTC:20210520T140000
DTSTAMP:20260420T183813
CREATED:20210426T170616Z
LAST-MODIFIED:20210429T190343Z
UID:10001704-1621512000-1621519200@seasideconvention.com
SUMMARY:Rotary Club of Seaside Club Meeting
DESCRIPTION:Rotary Club of Seaside will be hosting their club meeting at the Seaside Civic & Convention Center! \nCOVID-19 safety protocols will be in place. Everyone is required to wear a mask at all times in the building and to maintain a social distance of 6ft between parties. Attendance numbers will be limited according to current COVID Risk Level Guidelines when this event occurs.
URL:https://seasideconvention.com/event/rotary-club-of-seaside-club-meeting-7/
LOCATION:Seaside Civic & Convention Center\, 415 First Avenue\, Seaside\, OR\, 97138\, United States
ATTACH;FMTTYPE=image/jpeg:https://seasideconvention.com/wp-content/uploads/2020/08/Seaside-Rotary-Logo-e1598290517739.jpg
GEO:45.9941136;-123.9253166
X-APPLE-STRUCTURED-LOCATION;VALUE=URI;X-ADDRESS=Seaside Civic & Convention Center 415 First Avenue Seaside OR 97138 United States;X-APPLE-RADIUS=500;X-TITLE=415 First Avenue:geo:-123.9253166,45.9941136
END:VEVENT
BEGIN:VEVENT
DTSTART;TZID=UTC:20210519T120000
DTEND;TZID=UTC:20210519T140000
DTSTAMP:20260420T183813
CREATED:20210426T170824Z
LAST-MODIFIED:20210429T190308Z
UID:10001705-1621425600-1621432800@seasideconvention.com
SUMMARY:Rotary Club of Seaside Board Meeting
DESCRIPTION:Rotary Club of Seaside will be hosting their board meeting at the Seaside Civic & Convention Center! \nAttendance numbers will be limited according to current COVID Risk Level Guidelines when this event occurs. COVID-19 safety protocols will be in place. Everyone is required to wear a mask at all times in the building and to maintain a social distance of 6ft between parties.
URL:https://seasideconvention.com/event/rotary-club-of-seaside-board-meeting-6/
LOCATION:Seaside Civic & Convention Center\, 415 First Avenue\, Seaside\, OR\, 97138\, United States
ATTACH;FMTTYPE=image/jpeg:https://seasideconvention.com/wp-content/uploads/2020/08/Seaside-Rotary-Logo-e1598290517739.jpg
GEO:45.9941136;-123.9253166
X-APPLE-STRUCTURED-LOCATION;VALUE=URI;X-ADDRESS=Seaside Civic & Convention Center 415 First Avenue Seaside OR 97138 United States;X-APPLE-RADIUS=500;X-TITLE=415 First Avenue:geo:-123.9253166,45.9941136
END:VEVENT
BEGIN:VEVENT
DTSTART;TZID=UTC:20210513T120000
DTEND;TZID=UTC:20210513T140000
DTSTAMP:20260420T183813
CREATED:20210426T170449Z
LAST-MODIFIED:20210429T190902Z
UID:10001703-1620907200-1620914400@seasideconvention.com
SUMMARY:Rotary Club of Seaside Club Meeting
DESCRIPTION:Rotary Club of Seaside will be hosting their club meeting at the Seaside Civic & Convention Center! \nCOVID-19 safety protocols will be in place. Everyone is required to wear a mask at all times in the building and to maintain a social distance of 6ft between parties. Attendance numbers will be limited according to current COVID Risk Level Guidelines when this event occurs.
URL:https://seasideconvention.com/event/rotary-club-of-seaside-club-meeting-6/
LOCATION:Seaside Civic & Convention Center\, 415 First Avenue\, Seaside\, OR\, 97138\, United States
ATTACH;FMTTYPE=image/jpeg:https://seasideconvention.com/wp-content/uploads/2020/08/Seaside-Rotary-Logo-e1598290517739.jpg
GEO:45.9941136;-123.9253166
X-APPLE-STRUCTURED-LOCATION;VALUE=URI;X-ADDRESS=Seaside Civic & Convention Center 415 First Avenue Seaside OR 97138 United States;X-APPLE-RADIUS=500;X-TITLE=415 First Avenue:geo:-123.9253166,45.9941136
END:VEVENT
BEGIN:VEVENT
DTSTART;TZID=UTC:20210506T120000
DTEND;TZID=UTC:20210506T140000
DTSTAMP:20260420T183813
CREATED:20210426T170342Z
LAST-MODIFIED:20210429T190927Z
UID:10001702-1620302400-1620309600@seasideconvention.com
SUMMARY:Rotary Club of Seaside Club Meeting
DESCRIPTION:Rotary Club of Seaside will be hosting their club meeting at the Seaside Civic & Convention Center! \nCOVID-19 safety protocols will be in place. Everyone is required to wear a mask at all times in the building and to maintain a social distance of 6ft between parties. Attendance numbers will be limited according to current COVID Risk Level Guidelines when this event occurs.
URL:https://seasideconvention.com/event/rotary-club-of-seaside-club-meeting-5/
LOCATION:Seaside Civic & Convention Center\, 415 First Avenue\, Seaside\, OR\, 97138\, United States
ATTACH;FMTTYPE=image/jpeg:https://seasideconvention.com/wp-content/uploads/2020/08/Seaside-Rotary-Logo-e1598290517739.jpg
GEO:45.9941136;-123.9253166
X-APPLE-STRUCTURED-LOCATION;VALUE=URI;X-ADDRESS=Seaside Civic & Convention Center 415 First Avenue Seaside OR 97138 United States;X-APPLE-RADIUS=500;X-TITLE=415 First Avenue:geo:-123.9253166,45.9941136
END:VEVENT
BEGIN:VEVENT
DTSTART;TZID=UTC:20201216T120000
DTEND;TZID=UTC:20201216T140000
DTSTAMP:20260420T183813
CREATED:20200917T175232Z
LAST-MODIFIED:20200917T175232Z
UID:10001606-1608120000-1608127200@seasideconvention.com
SUMMARY:Rotary Club of Seaside Board Meeting
DESCRIPTION:The Rotary Club of Seaside will be holding their December board meeting at the Seaside Civic & Convention Center.
URL:https://seasideconvention.com/event/rotary-club-of-seaside-board-meeting-5/
LOCATION:Seaside Civic & Convention Center\, 415 First Avenue\, Seaside\, OR\, 97138\, United States
ATTACH;FMTTYPE=image/jpeg:https://seasideconvention.com/wp-content/uploads/2020/08/Seaside-Rotary-Logo-e1598290517739.jpg
GEO:45.9941136;-123.9253166
X-APPLE-STRUCTURED-LOCATION;VALUE=URI;X-ADDRESS=Seaside Civic & Convention Center 415 First Avenue Seaside OR 97138 United States;X-APPLE-RADIUS=500;X-TITLE=415 First Avenue:geo:-123.9253166,45.9941136
END:VEVENT
BEGIN:VEVENT
DTSTART;VALUE=DATE:20201214
DTEND;VALUE=DATE:20201217
DTSTAMP:20260420T183813
CREATED:20190923T233536Z
LAST-MODIFIED:20201216T220626Z
UID:10001471-1607904000-1608163199@seasideconvention.com
SUMMARY:Seaside Rotary: Santa's Workshop
DESCRIPTION:Need a couple of toys for your children for Christmas? Rotary Club of Seaside\, in conjunction with Toys For Tots & the local community\, is sponsoring “Santa’s Workshop” to help provide a couple of toys for local children who are in need. \nHere are the details: \n\nToys will be given out at the Seaside Civic & Convention Center Wednesday December 16th 9am-3pm.\nDue to social distancing guidelines\, the number of people allowed into the Convention Center is limited. You will be given a number when you arrive at the Convention Center on the 16th indicating which time you will be allowed in that day. Timeslots will not be given out prior to 9am on December 16th.\nYou must provide proof of residency in Seaside or Gearhart.\nYou must wear a mask.\nPlease do not bring your children with you.\n\nIf you have questions\, please contact Sandy with Rotary Club of Seaside directly at: (503) 717-2266.
URL:https://seasideconvention.com/event/seaside-rotary-santas-workshop-2/
LOCATION:Seaside Civic & Convention Center\, 415 First Avenue\, Seaside\, OR\, 97138\, United States
ATTACH;FMTTYPE=image/jpeg:https://seasideconvention.com/wp-content/uploads/2020/08/Seaside-Rotary-Logo-e1598290517739.jpg
GEO:45.9941136;-123.9253166
X-APPLE-STRUCTURED-LOCATION;VALUE=URI;X-ADDRESS=Seaside Civic & Convention Center 415 First Avenue Seaside OR 97138 United States;X-APPLE-RADIUS=500;X-TITLE=415 First Avenue:geo:-123.9253166,45.9941136
END:VEVENT
BEGIN:VEVENT
DTSTART;TZID=UTC:20201212T080000
DTEND;TZID=UTC:20201212T100000
DTSTAMP:20260420T183813
CREATED:20201208T181331Z
LAST-MODIFIED:20201208T181331Z
UID:10001626-1607760000-1607767200@seasideconvention.com
SUMMARY:Shop With A Cop
DESCRIPTION:Private Event
URL:https://seasideconvention.com/event/shop-with-a-cop/
LOCATION:Seaside Civic & Convention Center\, 415 First Avenue\, Seaside\, OR\, 97138\, United States
ATTACH;FMTTYPE=image/jpeg:https://seasideconvention.com/wp-content/uploads/2020/12/Present-Pic.jpg
GEO:45.9941136;-123.9253166
X-APPLE-STRUCTURED-LOCATION;VALUE=URI;X-ADDRESS=Seaside Civic & Convention Center 415 First Avenue Seaside OR 97138 United States;X-APPLE-RADIUS=500;X-TITLE=415 First Avenue:geo:-123.9253166,45.9941136
END:VEVENT
BEGIN:VEVENT
DTSTART;TZID=UTC:20201119T120000
DTEND;TZID=UTC:20201119T140000
DTSTAMP:20260420T183813
CREATED:20200917T181206Z
LAST-MODIFIED:20201113T221326Z
UID:10001252-1605787200-1605794400@seasideconvention.com
SUMMARY:Rotary Club of Seaside Club Meeting (Cancelled)
DESCRIPTION:This event has been cancelled.
URL:https://seasideconvention.com/event/rotary-club-of-seaside-club-meeting-4/
LOCATION:Seaside Civic & Convention Center\, 415 First Avenue\, Seaside\, OR\, 97138\, United States
ATTACH;FMTTYPE=image/jpeg:https://seasideconvention.com/wp-content/uploads/2020/08/Seaside-Rotary-Logo-e1598290517739.jpg
GEO:45.9941136;-123.9253166
X-APPLE-STRUCTURED-LOCATION;VALUE=URI;X-ADDRESS=Seaside Civic & Convention Center 415 First Avenue Seaside OR 97138 United States;X-APPLE-RADIUS=500;X-TITLE=415 First Avenue:geo:-123.9253166,45.9941136
END:VEVENT
BEGIN:VEVENT
DTSTART;TZID=UTC:20201118T120000
DTEND;TZID=UTC:20201118T140000
DTSTAMP:20260420T183813
CREATED:20200917T175102Z
LAST-MODIFIED:20201113T221101Z
UID:10001605-1605700800-1605708000@seasideconvention.com
SUMMARY:Rotary Club of Seaside Board Meeting (Cancelled)
DESCRIPTION:This event has been cancelled.
URL:https://seasideconvention.com/event/rotary-club-of-seaside-board-meeting-4/
LOCATION:Seaside Civic & Convention Center\, 415 First Avenue\, Seaside\, OR\, 97138\, United States
ATTACH;FMTTYPE=image/jpeg:https://seasideconvention.com/wp-content/uploads/2020/08/Seaside-Rotary-Logo-e1598290517739.jpg
GEO:45.9941136;-123.9253166
X-APPLE-STRUCTURED-LOCATION;VALUE=URI;X-ADDRESS=Seaside Civic & Convention Center 415 First Avenue Seaside OR 97138 United States;X-APPLE-RADIUS=500;X-TITLE=415 First Avenue:geo:-123.9253166,45.9941136
END:VEVENT
BEGIN:VEVENT
DTSTART;TZID=UTC:20201105T120000
DTEND;TZID=UTC:20201105T140000
DTSTAMP:20260420T183813
CREATED:20200917T180447Z
LAST-MODIFIED:20200917T180733Z
UID:10001250-1604577600-1604584800@seasideconvention.com
SUMMARY:Rotary Club of Seaside Club Meeting
DESCRIPTION:Rotary Club of Seaside will be hosting their club meeting at the Seaside Convention Center!
URL:https://seasideconvention.com/event/rotary-club-of-seaside-club-meeting-3/
LOCATION:Seaside Civic & Convention Center\, 415 First Avenue\, Seaside\, OR\, 97138\, United States
ATTACH;FMTTYPE=image/jpeg:https://seasideconvention.com/wp-content/uploads/2020/08/Seaside-Rotary-Logo-e1598290517739.jpg
GEO:45.9941136;-123.9253166
X-APPLE-STRUCTURED-LOCATION;VALUE=URI;X-ADDRESS=Seaside Civic & Convention Center 415 First Avenue Seaside OR 97138 United States;X-APPLE-RADIUS=500;X-TITLE=415 First Avenue:geo:-123.9253166,45.9941136
END:VEVENT
BEGIN:VEVENT
DTSTART;TZID=UTC:20201022T120000
DTEND;TZID=UTC:20201022T140000
DTSTAMP:20260420T183813
CREATED:20200917T180306Z
LAST-MODIFIED:20200917T180322Z
UID:10001608-1603368000-1603375200@seasideconvention.com
SUMMARY:Rotary Club of Seaside Club Meeting
DESCRIPTION:Rotary Club of Seaside will be hosting their club meeting at the Seaside Convention Center!
URL:https://seasideconvention.com/event/rotary-club-of-seaside-club-meeting-2/
LOCATION:Seaside Civic & Convention Center\, 415 First Avenue\, Seaside\, OR\, 97138\, United States
ATTACH;FMTTYPE=image/jpeg:https://seasideconvention.com/wp-content/uploads/2020/08/Seaside-Rotary-Logo-e1598290517739.jpg
GEO:45.9941136;-123.9253166
X-APPLE-STRUCTURED-LOCATION;VALUE=URI;X-ADDRESS=Seaside Civic & Convention Center 415 First Avenue Seaside OR 97138 United States;X-APPLE-RADIUS=500;X-TITLE=415 First Avenue:geo:-123.9253166,45.9941136
END:VEVENT
BEGIN:VEVENT
DTSTART;TZID=UTC:20201021T120000
DTEND;TZID=UTC:20201021T140000
DTSTAMP:20260420T183813
CREATED:20200917T174859Z
LAST-MODIFIED:20200917T174910Z
UID:10001604-1603281600-1603288800@seasideconvention.com
SUMMARY:Rotary Club of Seaside Board Meeting
DESCRIPTION:The Rotary Club of Seaside will be holding their October board meeting at the Seaside Civic & Convention Center.
URL:https://seasideconvention.com/event/rotary-club-of-seaside-board-meeting-3/
LOCATION:Seaside Civic & Convention Center\, 415 First Avenue\, Seaside\, OR\, 97138\, United States
ATTACH;FMTTYPE=image/jpeg:https://seasideconvention.com/wp-content/uploads/2020/08/Seaside-Rotary-Logo-e1598290517739.jpg
GEO:45.9941136;-123.9253166
X-APPLE-STRUCTURED-LOCATION;VALUE=URI;X-ADDRESS=Seaside Civic & Convention Center 415 First Avenue Seaside OR 97138 United States;X-APPLE-RADIUS=500;X-TITLE=415 First Avenue:geo:-123.9253166,45.9941136
END:VEVENT
BEGIN:VEVENT
DTSTART;TZID=UTC:20201008T120000
DTEND;TZID=UTC:20201008T140000
DTSTAMP:20260420T183813
CREATED:20200917T175606Z
LAST-MODIFIED:20200917T175606Z
UID:10001607-1602158400-1602165600@seasideconvention.com
SUMMARY:Rotary Club of Seaside Club Meeting
DESCRIPTION:Rotary Club of Seaside will be hosting their club meeting at the Seaside Convention Center!
URL:https://seasideconvention.com/event/rotary-club-of-seaside-club-meeting/
LOCATION:Seaside Civic & Convention Center\, 415 First Avenue\, Seaside\, OR\, 97138\, United States
ATTACH;FMTTYPE=image/jpeg:https://seasideconvention.com/wp-content/uploads/2020/08/Seaside-Rotary-Logo-e1598290517739.jpg
GEO:45.9941136;-123.9253166
X-APPLE-STRUCTURED-LOCATION;VALUE=URI;X-ADDRESS=Seaside Civic & Convention Center 415 First Avenue Seaside OR 97138 United States;X-APPLE-RADIUS=500;X-TITLE=415 First Avenue:geo:-123.9253166,45.9941136
END:VEVENT
BEGIN:VEVENT
DTSTART;TZID=UTC:20200916T120000
DTEND;TZID=UTC:20200916T140000
DTSTAMP:20260420T183813
CREATED:20200915T212519Z
LAST-MODIFIED:20200916T150940Z
UID:10001602-1600257600-1600264800@seasideconvention.com
SUMMARY:Rotary Club of Seaside Board Meeting
DESCRIPTION:The Rotary Club of Seaside will be holding their September board meeting at the Seaside Civic & Convention Center.
URL:https://seasideconvention.com/event/rotary-club-of-seaside-board-meeting-2/
LOCATION:Seaside Civic & Convention Center\, 415 First Avenue\, Seaside\, OR\, 97138\, United States
ATTACH;FMTTYPE=image/jpeg:https://seasideconvention.com/wp-content/uploads/2020/08/Seaside-Rotary-Logo-e1598290517739.jpg
GEO:45.9941136;-123.9253166
X-APPLE-STRUCTURED-LOCATION;VALUE=URI;X-ADDRESS=Seaside Civic & Convention Center 415 First Avenue Seaside OR 97138 United States;X-APPLE-RADIUS=500;X-TITLE=415 First Avenue:geo:-123.9253166,45.9941136
END:VEVENT
BEGIN:VEVENT
DTSTART;TZID=UTC:20200826T120000
DTEND;TZID=UTC:20200826T140000
DTSTAMP:20260420T183813
CREATED:20200821T201502Z
LAST-MODIFIED:20200824T211219Z
UID:10001242-1598443200-1598450400@seasideconvention.com
SUMMARY:Rotary Club of Seaside Board Meeting
DESCRIPTION:Private Event
URL:https://seasideconvention.com/event/rotary-club-of-seaside-board-meeting/
LOCATION:Seaside Civic & Convention Center\, 415 First Avenue\, Seaside\, OR\, 97138\, United States
ATTACH;FMTTYPE=image/jpeg:https://seasideconvention.com/wp-content/uploads/2020/08/Seaside-Rotary-Logo-e1598290517739.jpg
GEO:45.9941136;-123.9253166
X-APPLE-STRUCTURED-LOCATION;VALUE=URI;X-ADDRESS=Seaside Civic & Convention Center 415 First Avenue Seaside OR 97138 United States;X-APPLE-RADIUS=500;X-TITLE=415 First Avenue:geo:-123.9253166,45.9941136
END:VEVENT
BEGIN:VEVENT
DTSTART;VALUE=DATE:20191216
DTEND;VALUE=DATE:20191220
DTSTAMP:20260420T183813
CREATED:20190904T171712Z
LAST-MODIFIED:20191204T181208Z
UID:10001469-1576454400-1576799999@seasideconvention.com
SUMMARY:Seaside Rotary: Santa's Workshop
DESCRIPTION:Santa’s Workshop (gifts for families in need) will be held on Wednesday December 18th starting at 11 AM at the Seaside Convention Center.  There is no need to sign up\, but it is recommended to arrive as close to 11 AM as possible\, as there is a limited amount of toys and it is common for supplies to run out by 1 PM. Toys are available on a first come first serve basis and only available while supplies last. \nOnly residents of Seaside/Gearhart are eligible to receive toys\, parents seeking toys must provide identification that shows they are residents of Seaside/Gearhart.  If you do not have a picture ID such as a drivers license\, you will need something with your name on it and a utility bill that matches the name on your ID. Rotary requests that you PLEASE do not bring your children with you. \nIf you have further questions\, please call Sandy at the Chamber of Commerce: (503) 738-6391
URL:https://seasideconvention.com/event/seaside-rotary-santas-workshop/
LOCATION:Seaside Civic & Convention Center\, 415 First Avenue\, Seaside\, OR\, 97138\, United States
GEO:45.9941136;-123.9253166
X-APPLE-STRUCTURED-LOCATION;VALUE=URI;X-ADDRESS=Seaside Civic & Convention Center 415 First Avenue Seaside OR 97138 United States;X-APPLE-RADIUS=500;X-TITLE=415 First Avenue:geo:-123.9253166,45.9941136
END:VEVENT
BEGIN:VEVENT
DTSTART;VALUE=DATE:20190911
DTEND;VALUE=DATE:20190913
DTSTAMP:20260420T183813
CREATED:20180323T221942Z
LAST-MODIFIED:20190823T161759Z
UID:10001330-1568160000-1568332799@seasideconvention.com
SUMMARY:Seaside Rotary Auction
DESCRIPTION:Rotary Club of Seaside’s annual fundraiser dinner and auction Thursday September 12th! Doors open at 5:00pm\, event starts at 5:30pm. Tickets available for purchase from a Rotary Club member or via their website!
URL:https://seasideconvention.com/event/seaside-rotary-auction-2/
LOCATION:Seaside Civic & Convention Center\, 415 First Avenue\, Seaside\, OR\, 97138\, United States
ATTACH;FMTTYPE=image/jpeg:https://seasideconvention.com/wp-content/uploads/2019/07/TeamRotaryLogo-e1562081534124.jpg
GEO:45.9941136;-123.9253166
X-APPLE-STRUCTURED-LOCATION;VALUE=URI;X-ADDRESS=Seaside Civic & Convention Center 415 First Avenue Seaside OR 97138 United States;X-APPLE-RADIUS=500;X-TITLE=415 First Avenue:geo:-123.9253166,45.9941136
END:VEVENT
BEGIN:VEVENT
DTSTART;VALUE=DATE:20181218
DTEND;VALUE=DATE:20181221
DTSTAMP:20260420T183813
CREATED:20180423T173403Z
LAST-MODIFIED:20181220T004108Z
UID:10001334-1545091200-1545350399@seasideconvention.com
SUMMARY:Seaside Rotary: Santa's Workshop
DESCRIPTION:Rotary Club of Seaside gift program. Date to pick up gifts is Wednesday December 19th from 11am-5pm. Rotary is advertising that there is not an application process\, they would like you to just drop in on the 19th during the designated time. Please contact Rotary directly if you need further information.
URL:https://seasideconvention.com/event/seaside-rotary-wishing-tree-2/
LOCATION:Seaside Civic & Convention Center\, 415 First Avenue\, Seaside\, OR\, 97138\, United States
ATTACH;FMTTYPE=image/jpeg:https://seasideconvention.com/wp-content/uploads/2017/10/rotary-e1510763028379.jpg
GEO:45.9941136;-123.9253166
X-APPLE-STRUCTURED-LOCATION;VALUE=URI;X-ADDRESS=Seaside Civic & Convention Center 415 First Avenue Seaside OR 97138 United States;X-APPLE-RADIUS=500;X-TITLE=415 First Avenue:geo:-123.9253166,45.9941136
END:VEVENT
BEGIN:VEVENT
DTSTART;VALUE=DATE:20180921
DTEND;VALUE=DATE:20180922
DTSTAMP:20260420T183813
CREATED:20171107T205508Z
LAST-MODIFIED:20180403T220456Z
UID:10001048-1537488000-1537500600@seasideconvention.com
SUMMARY:Seaside Rotary Auction
DESCRIPTION:Rotary Club of Seaside’s annual fundraiser dinner and auction Saturday! Doors open at 5:00pm\, event starts at 5:30pm. Tickets available for purchase from a Rotary Club member or via their website!
URL:https://seasideconvention.com/event/seaside-rotary-auction/
LOCATION:Seaside Civic & Convention Center\, 415 First Avenue\, Seaside\, OR\, 97138\, United States
ATTACH;FMTTYPE=image/jpeg:https://seasideconvention.com/wp-content/uploads/2017/10/rotary-e1510763028379.jpg
GEO:45.9941136;-123.9253166
X-APPLE-STRUCTURED-LOCATION;VALUE=URI;X-ADDRESS=Seaside Civic & Convention Center 415 First Avenue Seaside OR 97138 United States;X-APPLE-RADIUS=500;X-TITLE=415 First Avenue:geo:-123.9253166,45.9941136
END:VEVENT
BEGIN:VEVENT
DTSTART;VALUE=DATE:20171219
DTEND;VALUE=DATE:20171223
DTSTAMP:20260420T183813
CREATED:20171030T214524Z
LAST-MODIFIED:20171101T180038Z
UID:10001028-1513641600-1513987199@seasideconvention.com
SUMMARY:Seaside Rotary Wishing Tree
DESCRIPTION:Wishing Tree Christmas gift program
URL:https://seasideconvention.com/event/seaside-rotary-wishing-tree/
LOCATION:Seaside Civic & Convention Center\, 415 First Avenue\, Seaside\, OR\, 97138\, United States
ATTACH;FMTTYPE=image/jpeg:https://seasideconvention.com/wp-content/uploads/2017/10/rotary-e1510763028379.jpg
GEO:45.9941136;-123.9253166
X-APPLE-STRUCTURED-LOCATION;VALUE=URI;X-ADDRESS=Seaside Civic & Convention Center 415 First Avenue Seaside OR 97138 United States;X-APPLE-RADIUS=500;X-TITLE=415 First Avenue:geo:-123.9253166,45.9941136
END:VEVENT
END:VCALENDAR