BEGIN:VCALENDAR
VERSION:2.0
PRODID:-//Seaside | Civic &amp; Convention Center - ECPv6.15.11//NONSGML v1.0//EN
CALSCALE:GREGORIAN
METHOD:PUBLISH
X-WR-CALNAME:Seaside | Civic &amp; Convention Center
X-ORIGINAL-URL:https://seasideconvention.com
X-WR-CALDESC:Events for Seaside | Civic &amp; Convention Center
REFRESH-INTERVAL;VALUE=DURATION:PT1H
X-Robots-Tag:noindex
X-PUBLISHED-TTL:PT1H
BEGIN:VTIMEZONE
TZID:UTC
BEGIN:STANDARD
TZOFFSETFROM:+0000
TZOFFSETTO:+0000
TZNAME:UTC
DTSTART:20160101T000000
END:STANDARD
END:VTIMEZONE
BEGIN:VEVENT
DTSTART;TZID=UTC:20200916T120000
DTEND;TZID=UTC:20200916T140000
DTSTAMP:20260420T220408
CREATED:20200915T212519Z
LAST-MODIFIED:20200916T150940Z
UID:10001602-1600257600-1600264800@seasideconvention.com
SUMMARY:Rotary Club of Seaside Board Meeting
DESCRIPTION:The Rotary Club of Seaside will be holding their September board meeting at the Seaside Civic & Convention Center.
URL:https://seasideconvention.com/event/rotary-club-of-seaside-board-meeting-2/
LOCATION:Seaside Civic & Convention Center\, 415 First Avenue\, Seaside\, OR\, 97138\, United States
ATTACH;FMTTYPE=image/jpeg:https://seasideconvention.com/wp-content/uploads/2020/08/Seaside-Rotary-Logo-e1598290517739.jpg
GEO:45.9941136;-123.9253166
X-APPLE-STRUCTURED-LOCATION;VALUE=URI;X-ADDRESS=Seaside Civic & Convention Center 415 First Avenue Seaside OR 97138 United States;X-APPLE-RADIUS=500;X-TITLE=415 First Avenue:geo:-123.9253166,45.9941136
END:VEVENT
BEGIN:VEVENT
DTSTART;TZID=UTC:20200826T120000
DTEND;TZID=UTC:20200826T140000
DTSTAMP:20260420T220408
CREATED:20200821T201502Z
LAST-MODIFIED:20200824T211219Z
UID:10001242-1598443200-1598450400@seasideconvention.com
SUMMARY:Rotary Club of Seaside Board Meeting
DESCRIPTION:Private Event
URL:https://seasideconvention.com/event/rotary-club-of-seaside-board-meeting/
LOCATION:Seaside Civic & Convention Center\, 415 First Avenue\, Seaside\, OR\, 97138\, United States
ATTACH;FMTTYPE=image/jpeg:https://seasideconvention.com/wp-content/uploads/2020/08/Seaside-Rotary-Logo-e1598290517739.jpg
GEO:45.9941136;-123.9253166
X-APPLE-STRUCTURED-LOCATION;VALUE=URI;X-ADDRESS=Seaside Civic & Convention Center 415 First Avenue Seaside OR 97138 United States;X-APPLE-RADIUS=500;X-TITLE=415 First Avenue:geo:-123.9253166,45.9941136
END:VEVENT
BEGIN:VEVENT
DTSTART;VALUE=DATE:20191216
DTEND;VALUE=DATE:20191220
DTSTAMP:20260420T220408
CREATED:20190904T171712Z
LAST-MODIFIED:20191204T181208Z
UID:10001469-1576454400-1576799999@seasideconvention.com
SUMMARY:Seaside Rotary: Santa's Workshop
DESCRIPTION:Santa’s Workshop (gifts for families in need) will be held on Wednesday December 18th starting at 11 AM at the Seaside Convention Center.  There is no need to sign up\, but it is recommended to arrive as close to 11 AM as possible\, as there is a limited amount of toys and it is common for supplies to run out by 1 PM. Toys are available on a first come first serve basis and only available while supplies last. \nOnly residents of Seaside/Gearhart are eligible to receive toys\, parents seeking toys must provide identification that shows they are residents of Seaside/Gearhart.  If you do not have a picture ID such as a drivers license\, you will need something with your name on it and a utility bill that matches the name on your ID. Rotary requests that you PLEASE do not bring your children with you. \nIf you have further questions\, please call Sandy at the Chamber of Commerce: (503) 738-6391
URL:https://seasideconvention.com/event/seaside-rotary-santas-workshop/
LOCATION:Seaside Civic & Convention Center\, 415 First Avenue\, Seaside\, OR\, 97138\, United States
GEO:45.9941136;-123.9253166
X-APPLE-STRUCTURED-LOCATION;VALUE=URI;X-ADDRESS=Seaside Civic & Convention Center 415 First Avenue Seaside OR 97138 United States;X-APPLE-RADIUS=500;X-TITLE=415 First Avenue:geo:-123.9253166,45.9941136
END:VEVENT
BEGIN:VEVENT
DTSTART;VALUE=DATE:20190911
DTEND;VALUE=DATE:20190913
DTSTAMP:20260420T220408
CREATED:20180323T221942Z
LAST-MODIFIED:20190823T161759Z
UID:10001330-1568160000-1568332799@seasideconvention.com
SUMMARY:Seaside Rotary Auction
DESCRIPTION:Rotary Club of Seaside’s annual fundraiser dinner and auction Thursday September 12th! Doors open at 5:00pm\, event starts at 5:30pm. Tickets available for purchase from a Rotary Club member or via their website!
URL:https://seasideconvention.com/event/seaside-rotary-auction-2/
LOCATION:Seaside Civic & Convention Center\, 415 First Avenue\, Seaside\, OR\, 97138\, United States
ATTACH;FMTTYPE=image/jpeg:https://seasideconvention.com/wp-content/uploads/2019/07/TeamRotaryLogo-e1562081534124.jpg
GEO:45.9941136;-123.9253166
X-APPLE-STRUCTURED-LOCATION;VALUE=URI;X-ADDRESS=Seaside Civic & Convention Center 415 First Avenue Seaside OR 97138 United States;X-APPLE-RADIUS=500;X-TITLE=415 First Avenue:geo:-123.9253166,45.9941136
END:VEVENT
BEGIN:VEVENT
DTSTART;VALUE=DATE:20181218
DTEND;VALUE=DATE:20181221
DTSTAMP:20260420T220408
CREATED:20180423T173403Z
LAST-MODIFIED:20181220T004108Z
UID:10001334-1545091200-1545350399@seasideconvention.com
SUMMARY:Seaside Rotary: Santa's Workshop
DESCRIPTION:Rotary Club of Seaside gift program. Date to pick up gifts is Wednesday December 19th from 11am-5pm. Rotary is advertising that there is not an application process\, they would like you to just drop in on the 19th during the designated time. Please contact Rotary directly if you need further information.
URL:https://seasideconvention.com/event/seaside-rotary-wishing-tree-2/
LOCATION:Seaside Civic & Convention Center\, 415 First Avenue\, Seaside\, OR\, 97138\, United States
ATTACH;FMTTYPE=image/jpeg:https://seasideconvention.com/wp-content/uploads/2017/10/rotary-e1510763028379.jpg
GEO:45.9941136;-123.9253166
X-APPLE-STRUCTURED-LOCATION;VALUE=URI;X-ADDRESS=Seaside Civic & Convention Center 415 First Avenue Seaside OR 97138 United States;X-APPLE-RADIUS=500;X-TITLE=415 First Avenue:geo:-123.9253166,45.9941136
END:VEVENT
BEGIN:VEVENT
DTSTART;VALUE=DATE:20180921
DTEND;VALUE=DATE:20180922
DTSTAMP:20260420T220408
CREATED:20171107T205508Z
LAST-MODIFIED:20180403T220456Z
UID:10001048-1537488000-1537500600@seasideconvention.com
SUMMARY:Seaside Rotary Auction
DESCRIPTION:Rotary Club of Seaside’s annual fundraiser dinner and auction Saturday! Doors open at 5:00pm\, event starts at 5:30pm. Tickets available for purchase from a Rotary Club member or via their website!
URL:https://seasideconvention.com/event/seaside-rotary-auction/
LOCATION:Seaside Civic & Convention Center\, 415 First Avenue\, Seaside\, OR\, 97138\, United States
ATTACH;FMTTYPE=image/jpeg:https://seasideconvention.com/wp-content/uploads/2017/10/rotary-e1510763028379.jpg
GEO:45.9941136;-123.9253166
X-APPLE-STRUCTURED-LOCATION;VALUE=URI;X-ADDRESS=Seaside Civic & Convention Center 415 First Avenue Seaside OR 97138 United States;X-APPLE-RADIUS=500;X-TITLE=415 First Avenue:geo:-123.9253166,45.9941136
END:VEVENT
BEGIN:VEVENT
DTSTART;VALUE=DATE:20171219
DTEND;VALUE=DATE:20171223
DTSTAMP:20260420T220408
CREATED:20171030T214524Z
LAST-MODIFIED:20171101T180038Z
UID:10001028-1513641600-1513987199@seasideconvention.com
SUMMARY:Seaside Rotary Wishing Tree
DESCRIPTION:Wishing Tree Christmas gift program
URL:https://seasideconvention.com/event/seaside-rotary-wishing-tree/
LOCATION:Seaside Civic & Convention Center\, 415 First Avenue\, Seaside\, OR\, 97138\, United States
ATTACH;FMTTYPE=image/jpeg:https://seasideconvention.com/wp-content/uploads/2017/10/rotary-e1510763028379.jpg
GEO:45.9941136;-123.9253166
X-APPLE-STRUCTURED-LOCATION;VALUE=URI;X-ADDRESS=Seaside Civic & Convention Center 415 First Avenue Seaside OR 97138 United States;X-APPLE-RADIUS=500;X-TITLE=415 First Avenue:geo:-123.9253166,45.9941136
END:VEVENT
END:VCALENDAR