BEGIN:VCALENDAR
VERSION:2.0
PRODID:-//Seaside | Civic &amp; Convention Center - ECPv6.15.11//NONSGML v1.0//EN
CALSCALE:GREGORIAN
METHOD:PUBLISH
X-ORIGINAL-URL:https://seasideconvention.com
X-WR-CALDESC:Events for Seaside | Civic &amp; Convention Center
REFRESH-INTERVAL;VALUE=DURATION:PT1H
X-Robots-Tag:noindex
X-PUBLISHED-TTL:PT1H
BEGIN:VTIMEZONE
TZID:UTC
BEGIN:STANDARD
TZOFFSETFROM:+0000
TZOFFSETTO:+0000
TZNAME:UTC
DTSTART:20180101T000000
END:STANDARD
END:VTIMEZONE
BEGIN:VEVENT
DTSTART;TZID=UTC:20210311T083000
DTEND;TZID=UTC:20210311T093000
DTSTAMP:20260423T110658
CREATED:20210106T162010Z
LAST-MODIFIED:20210316T172933Z
UID:10001280-1615451400-1615455000@seasideconvention.com
SUMMARY:SDDA Weekly Meeting
DESCRIPTION:The Seaside Downtown Development Association meeting will be held at the Seaside Civic & Convention Center at 8:30am. \nCOVID-19 safety protocols will be in place. Everyone is required to wear a mask at all times in the building and to maintain a social distance of 6ft between parties.
URL:https://seasideconvention.com/event/sdda-weekly-meeting-25/
LOCATION:Seaside Civic & Convention Center\, 415 First Avenue\, Seaside\, OR\, 97138\, United States
ATTACH;FMTTYPE=image/png:https://seasideconvention.com/wp-content/uploads/2020/07/sdda-e1597945759748.png
GEO:45.9941136;-123.9253166
X-APPLE-STRUCTURED-LOCATION;VALUE=URI;X-ADDRESS=Seaside Civic & Convention Center 415 First Avenue Seaside OR 97138 United States;X-APPLE-RADIUS=500;X-TITLE=415 First Avenue:geo:-123.9253166,45.9941136
END:VEVENT
BEGIN:VEVENT
DTSTART;TZID=UTC:20200428T063000
DTEND;TZID=UTC:20200428T083000
DTSTAMP:20260423T110658
CREATED:20200422T211440Z
LAST-MODIFIED:20200424T170335Z
UID:10001547-1588055400-1588062600@seasideconvention.com
SUMMARY:Pancake/Sausage Breakfast Drive-Thru Open To All Residents Of Clatsop County Who Have Been Impacted By This Pandemic!
DESCRIPTION:The Seaside Civic & Convention Center is teaming up with Oregon Fine Foods to provide a bright spot during this difficult time! All residents of Clatsop County who have been impacted by this pandemic are invited to swing by drive-thru style to pick up a to-go meal of pancakes & sausage. \nDate/Time: Tuesday April 28th 6:30am-8:30am (while supplies last) \nLocation: Seaside Civic & Convention Center (pull into the NE Entrance Loading Zone and we will bring it to you!)
URL:https://seasideconvention.com/event/pancake-sausage-breakfast-drive-thru-for-all-residents-of-clatsop-county/
LOCATION:Seaside Civic & Convention Center\, 415 First Avenue\, Seaside\, OR\, 97138\, United States
ATTACH;FMTTYPE=image/jpeg:https://seasideconvention.com/wp-content/uploads/2020/04/Pancake-Breakfast-Round-3-e1587747753547.jpg
GEO:45.9941136;-123.9253166
X-APPLE-STRUCTURED-LOCATION;VALUE=URI;X-ADDRESS=Seaside Civic & Convention Center 415 First Avenue Seaside OR 97138 United States;X-APPLE-RADIUS=500;X-TITLE=415 First Avenue:geo:-123.9253166,45.9941136
END:VEVENT
BEGIN:VEVENT
DTSTART;TZID=UTC:20200421T063000
DTEND;TZID=UTC:20200421T083000
DTSTAMP:20260423T110658
CREATED:20200417T150430Z
LAST-MODIFIED:20200417T151142Z
UID:10001546-1587450600-1587457800@seasideconvention.com
SUMMARY:Pancake/Sausage Breakfast Drive-Thru For Those In Clatsop County Experiencing Economic Hardship & First Responders
DESCRIPTION:The Seaside Civic & Convention Center is teaming up with Oregon Fine Foods to provide breakfast for residents of Clatsop County who have experienced Economic Hardship due to the current crisis and First Responders! If this is you\, swing by drive-thru style to pick up a to-go meal of pancakes & sausage. \nDate/Time: Tuesday April 21st 6:30am-8:30am (while supplies last) \nLocation: Seaside Civic & Convention Center (pull into the NE Entrance Loading Zone and we will bring it to you)
URL:https://seasideconvention.com/event/pancake-sausage-breakfast-drive-thru-for-those-in-clatsop-county-experiencing-economic-hardship-first-responders/
LOCATION:Seaside Civic & Convention Center\, 415 First Avenue\, Seaside\, OR\, 97138\, United States
ATTACH;FMTTYPE=image/jpeg:https://seasideconvention.com/wp-content/uploads/2020/04/Pancake-Round-2-e1587136294500.jpg
GEO:45.9941136;-123.9253166
X-APPLE-STRUCTURED-LOCATION;VALUE=URI;X-ADDRESS=Seaside Civic & Convention Center 415 First Avenue Seaside OR 97138 United States;X-APPLE-RADIUS=500;X-TITLE=415 First Avenue:geo:-123.9253166,45.9941136
END:VEVENT
BEGIN:VEVENT
DTSTART;TZID=UTC:20200414T060000
DTEND;TZID=UTC:20200414T090000
DTSTAMP:20260423T110658
CREATED:20200410T160518Z
LAST-MODIFIED:20200410T160518Z
UID:10001542-1586844000-1586854800@seasideconvention.com
SUMMARY:Pancake/Sausage Breakfast Drive-Thru For Clatsop County First Responders & Healthcare Workers
DESCRIPTION:The Seaside Civic & Convention Center is teaming up with Oregon Fine Foods to say THANK YOU to Clatsop County First Responders & Healthcare Workers! If you are a First Responder or Healthcare Worker in Clatsop County\, swing by drive-thru style to pick up a to-go meal of pancakes & sausage. \nDate/Time: Tuesday April 14th 6am-9am (while supplies last) \nLocation: Seaside Civic & Convention Center (pull into the NE Entrance Loading Zone and we will bring it to you)
URL:https://seasideconvention.com/event/pancake-sausage-breakfast-drive-thru-for-clatsop-county-first-responders-healthcare-workers/
LOCATION:Seaside Civic & Convention Center\, 415 First Avenue\, Seaside\, OR\, 97138\, United States
ATTACH;FMTTYPE=image/jpeg:https://seasideconvention.com/wp-content/uploads/2018/12/pancakes-e1545958067464.jpg
GEO:45.9941136;-123.9253166
X-APPLE-STRUCTURED-LOCATION;VALUE=URI;X-ADDRESS=Seaside Civic & Convention Center 415 First Avenue Seaside OR 97138 United States;X-APPLE-RADIUS=500;X-TITLE=415 First Avenue:geo:-123.9253166,45.9941136
END:VEVENT
BEGIN:VEVENT
DTSTART;VALUE=DATE:20191125
DTEND;VALUE=DATE:20191126
DTSTAMP:20260423T110658
CREATED:20190403T234822Z
LAST-MODIFIED:20190821T231659Z
UID:10001421-1574640000-1574726399@seasideconvention.com
SUMMARY:SCCC Filming Project
DESCRIPTION:Private Event
URL:https://seasideconvention.com/event/sccc-filming-project/
LOCATION:Seaside Civic & Convention Center\, 415 First Avenue\, Seaside\, OR\, 97138\, United States
ATTACH;FMTTYPE=image/jpeg:https://seasideconvention.com/wp-content/uploads/2018/03/NE-Corner-View-Close.jpg
GEO:45.9941136;-123.9253166
X-APPLE-STRUCTURED-LOCATION;VALUE=URI;X-ADDRESS=Seaside Civic & Convention Center 415 First Avenue Seaside OR 97138 United States;X-APPLE-RADIUS=500;X-TITLE=415 First Avenue:geo:-123.9253166,45.9941136
END:VEVENT
BEGIN:VEVENT
DTSTART;TZID=UTC:20190905T160000
DTEND;TZID=UTC:20190905T180000
DTSTAMP:20260423T110658
CREATED:20190403T235437Z
LAST-MODIFIED:20190823T161444Z
UID:10001423-1567699200-1567706400@seasideconvention.com
SUMMARY:SCCC Open House
DESCRIPTION:Join us at the Seaside Civic & Convention Center as we host an Open House to debut our newly renovated facility! \n4:00pm   Self-Guided Tours \n5:00pm   Presentation \n5:20pm   Self-Guided & Guided Tours
URL:https://seasideconvention.com/event/sccc-open-house/
LOCATION:Seaside Civic & Convention Center\, 415 First Avenue\, Seaside\, OR\, 97138\, United States
ATTACH;FMTTYPE=image/jpeg:https://seasideconvention.com/wp-content/uploads/2018/03/NE-Corner-View-Close.jpg
GEO:45.9941136;-123.9253166
X-APPLE-STRUCTURED-LOCATION;VALUE=URI;X-ADDRESS=Seaside Civic & Convention Center 415 First Avenue Seaside OR 97138 United States;X-APPLE-RADIUS=500;X-TITLE=415 First Avenue:geo:-123.9253166,45.9941136
END:VEVENT
END:VCALENDAR