BEGIN:VCALENDAR
VERSION:2.0
PRODID:-//Seaside | Civic &amp; Convention Center - ECPv6.15.11//NONSGML v1.0//EN
CALSCALE:GREGORIAN
METHOD:PUBLISH
X-WR-CALNAME:Seaside | Civic &amp; Convention Center
X-ORIGINAL-URL:https://seasideconvention.com
X-WR-CALDESC:Events for Seaside | Civic &amp; Convention Center
REFRESH-INTERVAL;VALUE=DURATION:PT1H
X-Robots-Tag:noindex
X-PUBLISHED-TTL:PT1H
BEGIN:VTIMEZONE
TZID:UTC
BEGIN:STANDARD
TZOFFSETFROM:+0000
TZOFFSETTO:+0000
TZNAME:UTC
DTSTART:20170101T000000
END:STANDARD
END:VTIMEZONE
BEGIN:VEVENT
DTSTART;VALUE=DATE:20250527
DTEND;VALUE=DATE:20250529
DTSTAMP:20260419T185820
CREATED:20240108T223411Z
LAST-MODIFIED:20240108T223411Z
UID:10001925-1748304000-1748476799@seasideconvention.com
SUMMARY:Pacifica Projects 2025
DESCRIPTION:Seaside High School students present their Pacifica Projects from 5:00 pm-8:00 pm on Wednesday\, May 28. This is a requirement for graduation. Based on the ideas of citizenship\, service and commitment to community\, the assignment is designed to allow students to complete a project that utilizes their own skills and interests as they serve their community! \nThe public is welcome to attend the presentations.
URL:https://seasideconvention.com/event/pacifica-projects-2025/
LOCATION:Seaside Civic & Convention Center\, 415 First Avenue\, Seaside\, OR\, 97138\, United States
ATTACH;FMTTYPE=image/jpeg:https://seasideconvention.com/wp-content/uploads/2020/11/Seaside-High-School-e1646762143145.jpg
GEO:45.9941136;-123.9253166
X-APPLE-STRUCTURED-LOCATION;VALUE=URI;X-ADDRESS=Seaside Civic & Convention Center 415 First Avenue Seaside OR 97138 United States;X-APPLE-RADIUS=500;X-TITLE=415 First Avenue:geo:-123.9253166,45.9941136
END:VEVENT
BEGIN:VEVENT
DTSTART;VALUE=DATE:20240609
DTEND;VALUE=DATE:20240610
DTSTAMP:20260419T185820
CREATED:20221005T214717Z
LAST-MODIFIED:20221005T214717Z
UID:10001834-1717891200-1717977599@seasideconvention.com
SUMMARY:Move In Day SHS
DESCRIPTION:This is a private event.
URL:https://seasideconvention.com/event/move-in-day-shs-2/
LOCATION:Seaside Civic & Convention Center\, 415 First Avenue\, Seaside\, OR\, 97138\, United States
ATTACH;FMTTYPE=image/jpeg:https://seasideconvention.com/wp-content/uploads/2020/11/Seaside-High-School-e1646762143145.jpg
GEO:45.9941136;-123.9253166
X-APPLE-STRUCTURED-LOCATION;VALUE=URI;X-ADDRESS=Seaside Civic & Convention Center 415 First Avenue Seaside OR 97138 United States;X-APPLE-RADIUS=500;X-TITLE=415 First Avenue:geo:-123.9253166,45.9941136
END:VEVENT
BEGIN:VEVENT
DTSTART;VALUE=DATE:20240528
DTEND;VALUE=DATE:20240530
DTSTAMP:20260419T185820
CREATED:20221214T235516Z
LAST-MODIFIED:20240108T223159Z
UID:10001458-1716854400-1717027199@seasideconvention.com
SUMMARY:Pacifica Projects 2024
DESCRIPTION:Seaside High School students present their Pacifica Projects\, which are a requirement for graduation. Based on the ideas of citizenship\, service and commitment to community\, the assignment is designed to allow students to complete a project that utilizes their own skills and interests as they serve their community! \nThe public is welcome to attend the presentations.
URL:https://seasideconvention.com/event/pacifica-projects-4/
LOCATION:Seaside Civic & Convention Center\, 415 First Avenue\, Seaside\, OR\, 97138\, United States
ATTACH;FMTTYPE=image/jpeg:https://seasideconvention.com/wp-content/uploads/2020/11/Seaside-High-School-e1646762143145.jpg
GEO:45.9941136;-123.9253166
X-APPLE-STRUCTURED-LOCATION;VALUE=URI;X-ADDRESS=Seaside Civic & Convention Center 415 First Avenue Seaside OR 97138 United States;X-APPLE-RADIUS=500;X-TITLE=415 First Avenue:geo:-123.9253166,45.9941136
END:VEVENT
BEGIN:VEVENT
DTSTART;VALUE=DATE:20230607
DTEND;VALUE=DATE:20230608
DTSTAMP:20260419T185820
CREATED:20221005T214600Z
LAST-MODIFIED:20230605T155203Z
UID:10001833-1686096000-1686182399@seasideconvention.com
SUMMARY:Move In Day SHS
DESCRIPTION:This is a private event.
URL:https://seasideconvention.com/event/move-in-day-shs/
LOCATION:Seaside Civic & Convention Center\, 415 First Avenue\, Seaside\, OR\, 97138\, United States
ATTACH;FMTTYPE=image/jpeg:https://seasideconvention.com/wp-content/uploads/2019/12/Slide1-e1685980205392.jpg
GEO:45.9941136;-123.9253166
X-APPLE-STRUCTURED-LOCATION;VALUE=URI;X-ADDRESS=Seaside Civic & Convention Center 415 First Avenue Seaside OR 97138 United States;X-APPLE-RADIUS=500;X-TITLE=415 First Avenue:geo:-123.9253166,45.9941136
END:VEVENT
BEGIN:VEVENT
DTSTART;VALUE=DATE:20230530
DTEND;VALUE=DATE:20230601
DTSTAMP:20260419T185820
CREATED:20220217T231040Z
LAST-MODIFIED:20240108T223119Z
UID:10001405-1685404800-1685523600@seasideconvention.com
SUMMARY:Pacifica Projects 2023
DESCRIPTION:Seaside High School students present their Pacifica Projects from 5:00 pm-8:00 pm on Wednesday\, May 31. This is a requirement for graduation. Based on the ideas of citizenship\, service and commitment to community\, the assignment is designed to allow students to complete a project that utilizes their own skills and interests as they serve their community! \nThe public is welcome to attend the presentations.
URL:https://seasideconvention.com/event/6528/
LOCATION:Seaside Civic & Convention Center\, 415 First Avenue\, Seaside\, OR\, 97138\, United States
ATTACH;FMTTYPE=image/jpeg:https://seasideconvention.com/wp-content/uploads/2020/11/Seaside-High-School-e1646762143145.jpg
GEO:45.9941136;-123.9253166
X-APPLE-STRUCTURED-LOCATION;VALUE=URI;X-ADDRESS=Seaside Civic & Convention Center 415 First Avenue Seaside OR 97138 United States;X-APPLE-RADIUS=500;X-TITLE=415 First Avenue:geo:-123.9253166,45.9941136
END:VEVENT
BEGIN:VEVENT
DTSTART;VALUE=DATE:20200608
DTEND;VALUE=DATE:20200609
DTSTAMP:20260419T185820
CREATED:20171121T000117Z
LAST-MODIFIED:20200611T154731Z
UID:10001207-1591574400-1591581600@seasideconvention.com
SUMMARY:Cancelled: Seaside HS Graduation
DESCRIPTION:Please refer to the Seaside High School website for information regarding the Seaside High School Graduation Ceremony.
URL:https://seasideconvention.com/event/seaside-hs-graduation-2/
LOCATION:Seaside Civic & Convention Center\, 415 First Avenue\, Seaside\, OR\, 97138\, United States
ATTACH;FMTTYPE=image/jpeg:https://seasideconvention.com/wp-content/uploads/2017/11/SHS-Logo-2-e1553715371741.jpg
GEO:45.9941136;-123.9253166
X-APPLE-STRUCTURED-LOCATION;VALUE=URI;X-ADDRESS=Seaside Civic & Convention Center 415 First Avenue Seaside OR 97138 United States;X-APPLE-RADIUS=500;X-TITLE=415 First Avenue:geo:-123.9253166,45.9941136
END:VEVENT
BEGIN:VEVENT
DTSTART;VALUE=DATE:20190903
DTEND;VALUE=DATE:20190905
DTSTAMP:20260419T185820
CREATED:20180323T221042Z
LAST-MODIFIED:20180328T152202Z
UID:10001328-1567468800-1567641599@seasideconvention.com
SUMMARY:Multiphasic Clinic
DESCRIPTION:Kindergarten Multiphasic Clinic will be held from 9 a.m. – 4 p.m. Wednesday September 4th. Call your local school for an appointment!
URL:https://seasideconvention.com/event/multiphasic-clinic-2/
LOCATION:Seaside Civic & Convention Center\, 415 First Avenue\, Seaside\, OR\, 97138\, United States
ATTACH;FMTTYPE=image/jpeg:https://seasideconvention.com/wp-content/uploads/2017/11/Seaside-School-District-Generic-e1510099167696.jpg
GEO:45.9941136;-123.9253166
X-APPLE-STRUCTURED-LOCATION;VALUE=URI;X-ADDRESS=Seaside Civic & Convention Center 415 First Avenue Seaside OR 97138 United States;X-APPLE-RADIUS=500;X-TITLE=415 First Avenue:geo:-123.9253166,45.9941136
END:VEVENT
BEGIN:VEVENT
DTSTART;TZID=UTC:20190610T200000
DTEND;TZID=UTC:20190610T220000
DTSTAMP:20260419T185820
CREATED:20171116T004621Z
LAST-MODIFIED:20180611T164328Z
UID:10001160-1560196800-1560204000@seasideconvention.com
SUMMARY:Seaside HS Graduation
DESCRIPTION:Seaside High School Graduation Ceremony
URL:https://seasideconvention.com/event/seaside-hs-graduation/
LOCATION:Seaside Civic & Convention Center\, 415 First Avenue\, Seaside\, OR\, 97138\, United States
ATTACH;FMTTYPE=image/jpeg:https://seasideconvention.com/wp-content/uploads/2017/11/SHS-Logo-2-e1553715371741.jpg
GEO:45.9941136;-123.9253166
X-APPLE-STRUCTURED-LOCATION;VALUE=URI;X-ADDRESS=Seaside Civic & Convention Center 415 First Avenue Seaside OR 97138 United States;X-APPLE-RADIUS=500;X-TITLE=415 First Avenue:geo:-123.9253166,45.9941136
END:VEVENT
BEGIN:VEVENT
DTSTART;VALUE=DATE:20190528
DTEND;VALUE=DATE:20190530
DTSTAMP:20260419T185820
CREATED:20180608T200736Z
LAST-MODIFIED:20180611T164255Z
UID:10001144-1559001600-1559174399@seasideconvention.com
SUMMARY:Pacifica Projects
DESCRIPTION:Seaside High School students present their Pacifica Projects\, which are a requirement for graduation. Based on the ideas of citizenship\, service and commitment to community\, the assignment is designed to allow students to complete a project that utilizes their own skills and interests as they serve their community! \nThe public is welcome to attend the presentations\, which start at 5 p.m. on Wed. 29th.
URL:https://seasideconvention.com/event/pacifica-projects-2/
LOCATION:Seaside Civic & Convention Center\, 415 First Avenue\, Seaside\, OR\, 97138\, United States
ATTACH;FMTTYPE=image/jpeg:https://seasideconvention.com/wp-content/uploads/2017/11/SHS-Logo-2-e1553715371741.jpg
GEO:45.9941136;-123.9253166
X-APPLE-STRUCTURED-LOCATION;VALUE=URI;X-ADDRESS=Seaside Civic & Convention Center 415 First Avenue Seaside OR 97138 United States;X-APPLE-RADIUS=500;X-TITLE=415 First Avenue:geo:-123.9253166,45.9941136
END:VEVENT
BEGIN:VEVENT
DTSTART;TZID=UTC:20190119T190000
DTEND;TZID=UTC:20190119T210000
DTSTAMP:20260419T185820
CREATED:20180502T215234Z
LAST-MODIFIED:20190103T204739Z
UID:10001340-1547924400-1547931600@seasideconvention.com
SUMMARY:Tillamook Head Gathering
DESCRIPTION:The Tillamook Head Gathering is a fundraiser designed to support art enrichment for the students at Seaside High School! Doors open at 6:30pm\, show starts at 7pm. \nTickets are $10 in advance and $15 at the door. Advance tickets may be purchased at the Seaside High School Business Office\, Beach Books or Seaside Coffee House. \n 
URL:https://seasideconvention.com/event/tillamook-head-gathering-2/
LOCATION:Seaside Civic & Convention Center\, 415 First Avenue\, Seaside\, OR\, 97138\, United States
ATTACH;FMTTYPE=image/jpeg:https://seasideconvention.com/wp-content/uploads/2017/11/Tillamook-Head-Gathering-e1525369458522.jpg
GEO:45.9941136;-123.9253166
X-APPLE-STRUCTURED-LOCATION;VALUE=URI;X-ADDRESS=Seaside Civic & Convention Center 415 First Avenue Seaside OR 97138 United States;X-APPLE-RADIUS=500;X-TITLE=415 First Avenue:geo:-123.9253166,45.9941136
END:VEVENT
BEGIN:VEVENT
DTSTART;VALUE=DATE:20180904
DTEND;VALUE=DATE:20180906
DTSTAMP:20260419T185820
CREATED:20171107T183317Z
LAST-MODIFIED:20171107T235936Z
UID:10001042-1536019200-1536191999@seasideconvention.com
SUMMARY:Multiphasic Clinic
DESCRIPTION:Kindergarten Multiphasic Clinic will be held from 9am-4pm Wednesday September 5th. Call your local school for an appointment!
URL:https://seasideconvention.com/event/multiphasic-clinic/
LOCATION:Seaside Civic & Convention Center\, 415 First Avenue\, Seaside\, OR\, 97138\, United States
ATTACH;FMTTYPE=image/jpeg:https://seasideconvention.com/wp-content/uploads/2017/11/Seaside-School-District-Generic-e1510099167696.jpg
GEO:45.9941136;-123.9253166
X-APPLE-STRUCTURED-LOCATION;VALUE=URI;X-ADDRESS=Seaside Civic & Convention Center 415 First Avenue Seaside OR 97138 United States;X-APPLE-RADIUS=500;X-TITLE=415 First Avenue:geo:-123.9253166,45.9941136
END:VEVENT
BEGIN:VEVENT
DTSTART;TZID=UTC:20180113T190000
DTEND;TZID=UTC:20180113T210000
DTSTAMP:20260419T185820
CREATED:20171101T184034Z
LAST-MODIFIED:20171222T163450Z
UID:10001039-1515870000-1515877200@seasideconvention.com
SUMMARY:Tillamook Head Gathering
DESCRIPTION:The Tillamook Head Gathering is a fundraiser designed to support art enrichment for the students at Seaside High School.  \nThe headliner will be Brian Bovenizer and the New Old Stock.  Light fare will be provided by The Stand.  The event also features a silent auction of items donated by local merchants and artists.
URL:https://seasideconvention.com/event/tillamook-head-gathering/
LOCATION:Seaside Civic & Convention Center\, 415 First Avenue\, Seaside\, OR\, 97138\, United States
ATTACH;FMTTYPE=image/jpeg:https://seasideconvention.com/wp-content/uploads/2017/11/Tillamook-Head-Gathering-e1525369458522.jpg
GEO:45.9941136;-123.9253166
X-APPLE-STRUCTURED-LOCATION;VALUE=URI;X-ADDRESS=Seaside Civic & Convention Center 415 First Avenue Seaside OR 97138 United States;X-APPLE-RADIUS=500;X-TITLE=415 First Avenue:geo:-123.9253166,45.9941136
END:VEVENT
END:VCALENDAR