BEGIN:VCALENDAR
VERSION:2.0
PRODID:-//Seaside | Civic &amp; Convention Center - ECPv6.15.11//NONSGML v1.0//EN
CALSCALE:GREGORIAN
METHOD:PUBLISH
X-WR-CALNAME:Seaside | Civic &amp; Convention Center
X-ORIGINAL-URL:https://seasideconvention.com
X-WR-CALDESC:Events for Seaside | Civic &amp; Convention Center
REFRESH-INTERVAL;VALUE=DURATION:PT1H
X-Robots-Tag:noindex
X-PUBLISHED-TTL:PT1H
BEGIN:VTIMEZONE
TZID:UTC
BEGIN:STANDARD
TZOFFSETFROM:+0000
TZOFFSETTO:+0000
TZNAME:UTC
DTSTART:20250101T000000
END:STANDARD
END:VTIMEZONE
BEGIN:VEVENT
DTSTART;VALUE=DATE:20260522
DTEND;VALUE=DATE:20260524
DTSTAMP:20260420T091920
CREATED:20241203T004324Z
LAST-MODIFIED:20250523T170150Z
UID:10001995-1779408000-1779580799@seasideconvention.com
SUMMARY:Garden Club Plant Sale 2026
DESCRIPTION:Plant sale will take place Saturday May 24th from 9:00am to noon. This annual favorite is open to the public\, admission is free! Enjoy a wide variety of plants\, garden art\, home-baked goods and preserves that are for sale!
URL:https://seasideconvention.com/event/garden-club-plant-sale-2026/
LOCATION:Seaside Civic & Convention Center\, 415 First Avenue\, Seaside\, OR\, 97138\, United States
ATTACH;FMTTYPE=image/jpeg:https://seasideconvention.com/wp-content/uploads/2017/11/SouWester-Plant-Sale.jpg
GEO:45.9941136;-123.9253166
X-APPLE-STRUCTURED-LOCATION;VALUE=URI;X-ADDRESS=Seaside Civic & Convention Center 415 First Avenue Seaside OR 97138 United States;X-APPLE-RADIUS=500;X-TITLE=415 First Avenue:geo:-123.9253166,45.9941136
END:VEVENT
END:VCALENDAR