BEGIN:VCALENDAR
VERSION:2.0
PRODID:-//Seaside | Civic &amp; Convention Center - ECPv6.15.11//NONSGML v1.0//EN
CALSCALE:GREGORIAN
METHOD:PUBLISH
X-ORIGINAL-URL:https://seasideconvention.com
X-WR-CALDESC:Events for Seaside | Civic &amp; Convention Center
REFRESH-INTERVAL;VALUE=DURATION:PT1H
X-Robots-Tag:noindex
X-PUBLISHED-TTL:PT1H
BEGIN:VTIMEZONE
TZID:UTC
BEGIN:STANDARD
TZOFFSETFROM:+0000
TZOFFSETTO:+0000
TZNAME:UTC
DTSTART:20170101T000000
END:STANDARD
END:VTIMEZONE
BEGIN:VEVENT
DTSTART;VALUE=DATE:20260306
DTEND;VALUE=DATE:20260309
DTSTAMP:20260420T040039
CREATED:20240628T174336Z
LAST-MODIFIED:20260128T173514Z
UID:10001960-1772755200-1773014399@seasideconvention.com
SUMMARY:Spotlight Dance Cup March 2026
DESCRIPTION:The Spotlight Dance Cup offers an elite dance competition March 6-8\, 2026! Performances are open to the public for viewing\, click here for registration!
URL:https://seasideconvention.com/event/spotlight-dance-cup-march-2026/
LOCATION:Seaside Civic & Convention Center\, 415 First Avenue\, Seaside\, OR\, 97138\, United States
ATTACH;FMTTYPE=image/jpeg:https://seasideconvention.com/wp-content/uploads/2024/06/Screenshot-2026-01-28-093433-e1769621702375.jpg
GEO:45.9941136;-123.9253166
X-APPLE-STRUCTURED-LOCATION;VALUE=URI;X-ADDRESS=Seaside Civic & Convention Center 415 First Avenue Seaside OR 97138 United States;X-APPLE-RADIUS=500;X-TITLE=415 First Avenue:geo:-123.9253166,45.9941136
END:VEVENT
BEGIN:VEVENT
DTSTART;VALUE=DATE:20250713
DTEND;VALUE=DATE:20250722
DTSTAMP:20260420T040039
CREATED:20191115T235039Z
LAST-MODIFIED:20250703T183410Z
UID:10001486-1752364800-1753142399@seasideconvention.com
SUMMARY:Spotlight Dance Cup 2025
DESCRIPTION:The Spotlight Dance Cup offers a week of elite dance competition! Each Spotlight competition is staged as a professional theatrical production. The event is family-oriented & student-focused. Performances are open to the public for viewing.
URL:https://seasideconvention.com/event/spotlight-dance-cup-8/
LOCATION:Seaside Civic & Convention Center\, 415 First Avenue\, Seaside\, OR\, 97138\, United States
ATTACH;FMTTYPE=image/jpeg:https://seasideconvention.com/wp-content/uploads/2019/11/Display-Option-1-2025-Nationals-Graphic-e1751567642661.jpg
GEO:45.9941136;-123.9253166
X-APPLE-STRUCTURED-LOCATION;VALUE=URI;X-ADDRESS=Seaside Civic & Convention Center 415 First Avenue Seaside OR 97138 United States;X-APPLE-RADIUS=500;X-TITLE=415 First Avenue:geo:-123.9253166,45.9941136
END:VEVENT
BEGIN:VEVENT
DTSTART;VALUE=DATE:20250307
DTEND;VALUE=DATE:20250310
DTSTAMP:20260420T040039
CREATED:20240628T174122Z
LAST-MODIFIED:20250128T200214Z
UID:10001959-1741305600-1741564799@seasideconvention.com
SUMMARY:Spotlight Dance Cup March 2025
DESCRIPTION:The Spotlight Dance Cup offers an elite dance competition March 7-9\, 2025! Each Spotlight competition is staged as a professional theatrical production. The event is family-oriented & student-focused. Performances are open to the public for viewing\, register for this event here!
URL:https://seasideconvention.com/event/spotlight-dance-cup-march-2025/
LOCATION:Seaside Civic & Convention Center\, 415 First Avenue\, Seaside\, OR\, 97138\, United States
ATTACH;FMTTYPE=image/jpeg:https://seasideconvention.com/wp-content/uploads/2022/10/Image27-centered-e1674778500847.jpg
GEO:45.9941136;-123.9253166
X-APPLE-STRUCTURED-LOCATION;VALUE=URI;X-ADDRESS=Seaside Civic & Convention Center 415 First Avenue Seaside OR 97138 United States;X-APPLE-RADIUS=500;X-TITLE=415 First Avenue:geo:-123.9253166,45.9941136
END:VEVENT
BEGIN:VEVENT
DTSTART;VALUE=DATE:20240711
DTEND;VALUE=DATE:20240719
DTSTAMP:20260420T040039
CREATED:20191115T234729Z
LAST-MODIFIED:20240613T222531Z
UID:10001485-1720656000-1721347199@seasideconvention.com
SUMMARY:Spotlight Dance Cup 2024
DESCRIPTION:The Spotlight Dance Cup offers a week of elite dance competition! Each Spotlight competition is staged as a professional theatrical production. The event is family-oriented & student-focused. Performances are open to the public for viewing.
URL:https://seasideconvention.com/event/spotlight-dance-cup-7/
LOCATION:Seaside Civic & Convention Center\, 415 First Avenue\, Seaside\, OR\, 97138\, United States
ATTACH;FMTTYPE=image/jpeg:https://seasideconvention.com/wp-content/uploads/2022/10/Image27-centered-e1674778500847.jpg
GEO:45.9941136;-123.9253166
X-APPLE-STRUCTURED-LOCATION;VALUE=URI;X-ADDRESS=Seaside Civic & Convention Center 415 First Avenue Seaside OR 97138 United States;X-APPLE-RADIUS=500;X-TITLE=415 First Avenue:geo:-123.9253166,45.9941136
END:VEVENT
BEGIN:VEVENT
DTSTART;VALUE=DATE:20230709
DTEND;VALUE=DATE:20230717
DTSTAMP:20260420T040039
CREATED:20191115T234217Z
LAST-MODIFIED:20230712T174827Z
UID:10001484-1688860800-1689551999@seasideconvention.com
SUMMARY:Spotlight Dance Cup 2023
DESCRIPTION:The Spotlight Dance Cup offers a week of elite dance competition! Each Spotlight competition is staged as a professional theatrical production. The event is family-oriented & student-focused. Performances are open to the public for viewing.
URL:https://seasideconvention.com/event/spotlight-dance-cup-6/
LOCATION:Seaside Civic & Convention Center\, 415 First Avenue\, Seaside\, OR\, 97138\, United States
ATTACH;FMTTYPE=image/jpeg:https://seasideconvention.com/wp-content/uploads/2019/11/Spotlight-First-Floor-Lobby-West-e1689184097604.jpg
GEO:45.9941136;-123.9253166
X-APPLE-STRUCTURED-LOCATION;VALUE=URI;X-ADDRESS=Seaside Civic & Convention Center 415 First Avenue Seaside OR 97138 United States;X-APPLE-RADIUS=500;X-TITLE=415 First Avenue:geo:-123.9253166,45.9941136
END:VEVENT
BEGIN:VEVENT
DTSTART;VALUE=DATE:20230317
DTEND;VALUE=DATE:20230320
DTSTAMP:20260420T040039
CREATED:20221017T222202Z
LAST-MODIFIED:20240628T173953Z
UID:10001451-1679011200-1679270399@seasideconvention.com
SUMMARY:Spotlight Dance Cup March 2023
DESCRIPTION:The Spotlight Dance Cup offers an elite dance competition March 18-19\, 2023! Each Spotlight competition is staged as a professional theatrical production. The event is family-oriented & student-focused. Performances are open to the public for viewing.
URL:https://seasideconvention.com/event/spotlight-dance-cup-march-2023/
LOCATION:Seaside Civic & Convention Center\, 415 First Avenue\, Seaside\, OR\, 97138\, United States
ATTACH;FMTTYPE=image/jpeg:https://seasideconvention.com/wp-content/uploads/2022/10/Image27-centered-e1674778500847.jpg
GEO:45.9941136;-123.9253166
X-APPLE-STRUCTURED-LOCATION;VALUE=URI;X-ADDRESS=Seaside Civic & Convention Center 415 First Avenue Seaside OR 97138 United States;X-APPLE-RADIUS=500;X-TITLE=415 First Avenue:geo:-123.9253166,45.9941136
END:VEVENT
BEGIN:VEVENT
DTSTART;VALUE=DATE:20220710
DTEND;VALUE=DATE:20220718
DTSTAMP:20260420T040039
CREATED:20191115T233830Z
LAST-MODIFIED:20220629T210405Z
UID:10001483-1657411200-1658102399@seasideconvention.com
SUMMARY:Spotlight Dance Cup
DESCRIPTION:The Spotlight Dance Cup offers a week of elite dance competition! Each Spotlight competition is staged as a professional theatrical production. The event is family-oriented & student-focused. Performances are open to the public for viewing.
URL:https://seasideconvention.com/event/spotlight-dance-cup-5/
LOCATION:Seaside Civic & Convention Center\, 415 First Avenue\, Seaside\, OR\, 97138\, United States
ATTACH;FMTTYPE=image/jpeg:https://seasideconvention.com/wp-content/uploads/2019/11/Spotlight-dance-2022.jpg
GEO:45.9941136;-123.9253166
X-APPLE-STRUCTURED-LOCATION;VALUE=URI;X-ADDRESS=Seaside Civic & Convention Center 415 First Avenue Seaside OR 97138 United States;X-APPLE-RADIUS=500;X-TITLE=415 First Avenue:geo:-123.9253166,45.9941136
END:VEVENT
BEGIN:VEVENT
DTSTART;VALUE=DATE:20210710
DTEND;VALUE=DATE:20210718
DTSTAMP:20260420T040039
CREATED:20191115T233119Z
LAST-MODIFIED:20210702T184550Z
UID:10001482-1625875200-1626566399@seasideconvention.com
SUMMARY:Spotlight Dance Cup
DESCRIPTION:Spotlight Dance Cup will be hosting their dance competition at the Seaside Civic & Convention Center! Visit their website for more information! \n 
URL:https://seasideconvention.com/event/spotlight-dance-cup-4/
LOCATION:Seaside Civic & Convention Center\, 415 First Avenue\, Seaside\, OR\, 97138\, United States
ATTACH;FMTTYPE=image/jpeg:https://seasideconvention.com/wp-content/uploads/2017/11/Spotlight-Logo-Generic-e1523991843280.jpg
GEO:45.9941136;-123.9253166
X-APPLE-STRUCTURED-LOCATION;VALUE=URI;X-ADDRESS=Seaside Civic & Convention Center 415 First Avenue Seaside OR 97138 United States;X-APPLE-RADIUS=500;X-TITLE=415 First Avenue:geo:-123.9253166,45.9941136
END:VEVENT
BEGIN:VEVENT
DTSTART;VALUE=DATE:20210430
DTEND;VALUE=DATE:20210503
DTSTAMP:20260420T040039
CREATED:20210308T211151Z
LAST-MODIFIED:20210428T152404Z
UID:10001685-1619740800-1619999999@seasideconvention.com
SUMMARY:Spotlight Dance Competition
DESCRIPTION:Spotlight Events will be hosting a Dance Competition at the Seaside Civic & Convention Center! \nCOVID-19 safety protocols will be in place. Everyone is required to wear a mask at all times in the building and to maintain a social distance of 6ft between parties. Attendance numbers will be limited according to current COVID Risk Level Guidelines when this event occurs.
URL:https://seasideconvention.com/event/spotlight-dance-competition/
LOCATION:Seaside Civic & Convention Center\, 415 First Avenue\, Seaside\, OR\, 97138\, United States
ATTACH;FMTTYPE=image/png:https://seasideconvention.com/wp-content/uploads/2020/07/Spotlight-Logo2-e1595016348932.png
GEO:45.9941136;-123.9253166
X-APPLE-STRUCTURED-LOCATION;VALUE=URI;X-ADDRESS=Seaside Civic & Convention Center 415 First Avenue Seaside OR 97138 United States;X-APPLE-RADIUS=500;X-TITLE=415 First Avenue:geo:-123.9253166,45.9941136
END:VEVENT
BEGIN:VEVENT
DTSTART;VALUE=DATE:20200806
DTEND;VALUE=DATE:20200809
DTSTAMP:20260420T040039
CREATED:20200717T200930Z
LAST-MODIFIED:20200805T144928Z
UID:10001230-1596672000-1596931199@seasideconvention.com
SUMMARY:Spotlight Dance Cup
DESCRIPTION:Spotlight Dance Cup will be hosting a modified version of their Pacific Northwest Super-Regional dance competition at the Seaside Civic & Convention Center. For further details\, please contact Spotlight Events directly: https://www.spotlightevents.com/
URL:https://seasideconvention.com/event/spotlight-dance-cup-9/
LOCATION:Seaside Civic & Convention Center\, 415 First Avenue\, Seaside\, OR\, 97138\, United States
ATTACH;FMTTYPE=image/png:https://seasideconvention.com/wp-content/uploads/2020/07/Spotlight-Logo2-e1595016348932.png
GEO:45.9941136;-123.9253166
X-APPLE-STRUCTURED-LOCATION;VALUE=URI;X-ADDRESS=Seaside Civic & Convention Center 415 First Avenue Seaside OR 97138 United States;X-APPLE-RADIUS=500;X-TITLE=415 First Avenue:geo:-123.9253166,45.9941136
END:VEVENT
BEGIN:VEVENT
DTSTART;VALUE=DATE:20200713
DTEND;VALUE=DATE:20200720
DTSTAMP:20260420T040039
CREATED:20171121T181145Z
LAST-MODIFIED:20200722T181836Z
UID:10001212-1594598400-1595203199@seasideconvention.com
SUMMARY:Cancelled: Spotlight Dance Cup
DESCRIPTION:This event has been cancelled and rescheduled for August 6-8\, 2020. Please contact Spotlight directly for further questions.
URL:https://seasideconvention.com/event/spotlight-dance-cup-3/
LOCATION:Seaside Civic & Convention Center\, 415 First Avenue\, Seaside\, OR\, 97138\, United States
ATTACH;FMTTYPE=image/jpeg:https://seasideconvention.com/wp-content/uploads/2017/11/Spotlight-Logo-Generic-e1523991843280.jpg
GEO:45.9941136;-123.9253166
X-APPLE-STRUCTURED-LOCATION;VALUE=URI;X-ADDRESS=Seaside Civic & Convention Center 415 First Avenue Seaside OR 97138 United States;X-APPLE-RADIUS=500;X-TITLE=415 First Avenue:geo:-123.9253166,45.9941136
END:VEVENT
BEGIN:VEVENT
DTSTART;VALUE=DATE:20190708
DTEND;VALUE=DATE:20190714
DTSTAMP:20260420T040039
CREATED:20171117T184055Z
LAST-MODIFIED:20190327T215531Z
UID:10001066-1562544000-1563062399@seasideconvention.com
SUMMARY:Spotlight Dance Cup
DESCRIPTION:The Spotlight Dance Cup offers 6 days of elite dance competition! Each Spotlight competition is staged as a professional theatrical production. The event is family-oriented & student-focused. Performances are open to the public for viewing.
URL:https://seasideconvention.com/event/spotlight-dance-cup-2/
LOCATION:Seaside Civic & Convention Center\, 415 First Avenue\, Seaside\, OR\, 97138\, United States
ATTACH;FMTTYPE=image/png:https://seasideconvention.com/wp-content/uploads/2019/03/spotlight-e1553723718760.png
GEO:45.9941136;-123.9253166
X-APPLE-STRUCTURED-LOCATION;VALUE=URI;X-ADDRESS=Seaside Civic & Convention Center 415 First Avenue Seaside OR 97138 United States;X-APPLE-RADIUS=500;X-TITLE=415 First Avenue:geo:-123.9253166,45.9941136
END:VEVENT
BEGIN:VEVENT
DTSTART;VALUE=DATE:20180709
DTEND;VALUE=DATE:20180716
DTSTAMP:20260420T040039
CREATED:20171106T223951Z
LAST-MODIFIED:20180524T155144Z
UID:10001110-1531094400-1531699199@seasideconvention.com
SUMMARY:Spotlight Dance Cup
DESCRIPTION:The Spotlight Dance Cup offers 6 days of elite dance competition! Each Spotlight competition is staged as a professional theatrical production. The event is family-oriented & student-focused. Performances are open to the public for viewing.
URL:https://seasideconvention.com/event/spotlight-dance-cup/
LOCATION:Seaside Civic & Convention Center\, 415 First Avenue\, Seaside\, OR\, 97138\, United States
ATTACH;FMTTYPE=image/jpeg:https://seasideconvention.com/wp-content/uploads/2017/11/Spotlight-2018-e1510014779648.jpg
GEO:45.9941136;-123.9253166
X-APPLE-STRUCTURED-LOCATION;VALUE=URI;X-ADDRESS=Seaside Civic & Convention Center 415 First Avenue Seaside OR 97138 United States;X-APPLE-RADIUS=500;X-TITLE=415 First Avenue:geo:-123.9253166,45.9941136
END:VEVENT
END:VCALENDAR