BEGIN:VCALENDAR
VERSION:2.0
PRODID:-//Seaside | Civic &amp; Convention Center - ECPv6.15.11//NONSGML v1.0//EN
CALSCALE:GREGORIAN
METHOD:PUBLISH
X-WR-CALNAME:Seaside | Civic &amp; Convention Center
X-ORIGINAL-URL:https://seasideconvention.com
X-WR-CALDESC:Events for Seaside | Civic &amp; Convention Center
REFRESH-INTERVAL;VALUE=DURATION:PT1H
X-Robots-Tag:noindex
X-PUBLISHED-TTL:PT1H
BEGIN:VTIMEZONE
TZID:UTC
BEGIN:STANDARD
TZOFFSETFROM:+0000
TZOFFSETTO:+0000
TZNAME:UTC
DTSTART:20170101T000000
END:STANDARD
END:VTIMEZONE
BEGIN:VEVENT
DTSTART;TZID=UTC:20190208T180000
DTEND;TZID=UTC:20190208T200000
DTSTAMP:20260421T064018
CREATED:20180214T233728Z
LAST-MODIFIED:20190201T005649Z
UID:10001295-1549648800-1549656000@seasideconvention.com
SUMMARY:Mother Son Dance
DESCRIPTION:Mother Son dance\, sponsored by Sunset Empire Park & Recreation from 6-8pm! There will be a DJ\, dancing\, photo booth\, raffle prizes & snacks! Cost is $25 per couple + $5 for each additional son.
URL:https://seasideconvention.com/event/mother-son-event/
LOCATION:Seaside Civic & Convention Center\, 415 First Avenue\, Seaside\, OR\, 97138\, United States
ATTACH;FMTTYPE=image/png:https://seasideconvention.com/wp-content/uploads/2018/02/SEPRD-Generic-Logo-e1519668078742.png
GEO:45.9941136;-123.9253166
X-APPLE-STRUCTURED-LOCATION;VALUE=URI;X-ADDRESS=Seaside Civic & Convention Center 415 First Avenue Seaside OR 97138 United States;X-APPLE-RADIUS=500;X-TITLE=415 First Avenue:geo:-123.9253166,45.9941136
END:VEVENT
BEGIN:VEVENT
DTSTART;VALUE=DATE:20181112
DTEND;VALUE=DATE:20181114
DTSTAMP:20260421T064018
CREATED:20180531T213650Z
LAST-MODIFIED:20181024T154947Z
UID:10001140-1541980800-1542153599@seasideconvention.com
SUMMARY:"The Choices We Make": Community Forum
DESCRIPTION:Sponsored by Sunset Empire Park & Recreation District and Providence Health Services\,”The Choices We Make” is a community forum for youth that addresses modern day challenges. It is accompanied by a stage production and forum. The presentation is on Tuesday November 13th at 6:00pm and is open to the public. Event is free of charge.
URL:https://seasideconvention.com/event/community-forum-wstage-production/
LOCATION:Seaside Civic & Convention Center\, 415 First Avenue\, Seaside\, OR\, 97138\, United States
GEO:45.9941136;-123.9253166
X-APPLE-STRUCTURED-LOCATION;VALUE=URI;X-ADDRESS=Seaside Civic & Convention Center 415 First Avenue Seaside OR 97138 United States;X-APPLE-RADIUS=500;X-TITLE=415 First Avenue:geo:-123.9253166,45.9941136
END:VEVENT
BEGIN:VEVENT
DTSTART;VALUE=DATE:20180310
DTEND;VALUE=DATE:20180312
DTSTAMP:20260421T064018
CREATED:20171101T235646Z
LAST-MODIFIED:20180116T171708Z
UID:10001061-1520640000-1520733600@seasideconvention.com
SUMMARY:A Sweet Affaire
DESCRIPTION:This fundraiser is jointly hosted by the Sunset Empire Parks & Recreation Foundation and the Seaside Rotary Foundation\, the event takes place on Sunday March 11th from 4-6pm. Through the funding from these Foundations\, youth and adults have had access to positive recreation activities such as swimming lessons\, senior aquatics\, after-school care\, art enrichment and summer camp programs. In addition\, over 300 Seaside families have received gifts for the holidays; high school students have been awarded college scholarships\, have gone on youth exchanges abroad and enjoyed a safe graduation night party. \n 
URL:https://seasideconvention.com/event/sweet-affair/
LOCATION:Seaside Civic & Convention Center\, 415 First Avenue\, Seaside\, OR\, 97138\, United States
ATTACH;FMTTYPE=image/jpeg:https://seasideconvention.com/wp-content/uploads/2017/11/A-Sweet-Affaire-2018.jpg
GEO:45.9941136;-123.9253166
X-APPLE-STRUCTURED-LOCATION;VALUE=URI;X-ADDRESS=Seaside Civic & Convention Center 415 First Avenue Seaside OR 97138 United States;X-APPLE-RADIUS=500;X-TITLE=415 First Avenue:geo:-123.9253166,45.9941136
END:VEVENT
BEGIN:VEVENT
DTSTART;TZID=UTC:20180127T180000
DTEND;TZID=UTC:20180127T200000
DTSTAMP:20260421T064018
CREATED:20171101T194804Z
LAST-MODIFIED:20171222T164504Z
UID:10001047-1517076000-1517083200@seasideconvention.com
SUMMARY:Daddy Daughter Dance
DESCRIPTION:The annual Daddy Daughter Dance will feature a DJ\, dancing\, photo booth\, and light refreshments!\n \nThe event takes place from 6 to 8 p.m. Come out for this fun evening and spend some quality time with the special little ladies in your life! Open to the Public!
URL:https://seasideconvention.com/event/daddy-daughter-dance/
LOCATION:Seaside Civic & Convention Center\, 415 First Avenue\, Seaside\, OR\, 97138\, United States
ATTACH;FMTTYPE=image/jpeg:https://seasideconvention.com/wp-content/uploads/2017/11/Daddy-Daughter-Dance-SEPRD.jpg
GEO:45.9941136;-123.9253166
X-APPLE-STRUCTURED-LOCATION;VALUE=URI;X-ADDRESS=Seaside Civic & Convention Center 415 First Avenue Seaside OR 97138 United States;X-APPLE-RADIUS=500;X-TITLE=415 First Avenue:geo:-123.9253166,45.9941136
END:VEVENT
END:VCALENDAR