BEGIN:VCALENDAR
VERSION:2.0
PRODID:-//Seaside | Civic &amp; Convention Center - ECPv6.15.11//NONSGML v1.0//EN
CALSCALE:GREGORIAN
METHOD:PUBLISH
X-ORIGINAL-URL:https://seasideconvention.com
X-WR-CALDESC:Events for Seaside | Civic &amp; Convention Center
REFRESH-INTERVAL;VALUE=DURATION:PT1H
X-Robots-Tag:noindex
X-PUBLISHED-TTL:PT1H
BEGIN:VTIMEZONE
TZID:UTC
BEGIN:STANDARD
TZOFFSETFROM:+0000
TZOFFSETTO:+0000
TZNAME:UTC
DTSTART:20210101T000000
END:STANDARD
END:VTIMEZONE
BEGIN:VEVENT
DTSTART;VALUE=DATE:20260414
DTEND;VALUE=DATE:20260417
DTSTAMP:20260424T090146
CREATED:20240816T221526Z
LAST-MODIFIED:20260128T181058Z
UID:10001585-1776124800-1776383999@seasideconvention.com
SUMMARY:PNW Bridge Maintenance Conference 2026
DESCRIPTION:The purpose of the PNW Bridge Maintenance Conference is to provide a forum for Bridge Maintenance Crews to share information to maintain highway structures. Click here for registration details!
URL:https://seasideconvention.com/event/pnw-bridge-maintenance-conference-2024/
LOCATION:Seaside Civic & Convention Center\, 415 First Avenue\, Seaside\, OR\, 97138\, United States
ATTACH;FMTTYPE=image/png:https://seasideconvention.com/wp-content/uploads/2021/02/PNWBridgeMaint-e1614186770757.png
GEO:45.9941136;-123.9253166
X-APPLE-STRUCTURED-LOCATION;VALUE=URI;X-ADDRESS=Seaside Civic & Convention Center 415 First Avenue Seaside OR 97138 United States;X-APPLE-RADIUS=500;X-TITLE=415 First Avenue:geo:-123.9253166,45.9941136
END:VEVENT
BEGIN:VEVENT
DTSTART;TZID=UTC:20260413T130000
DTEND;TZID=UTC:20260413T233000
DTSTAMP:20260424T090146
CREATED:20240816T221227Z
LAST-MODIFIED:20240816T221301Z
UID:10001973-1776085200-1776123000@seasideconvention.com
SUMMARY:PNW Bridge Maintenance Conference 2026 Move-In Day
DESCRIPTION:Move In Day 1:00pm-11:30pm
URL:https://seasideconvention.com/event/pnw-bridge-maintenance-conference-2026-move-in-day/
LOCATION:Seaside Civic & Convention Center\, 415 First Avenue\, Seaside\, OR\, 97138\, United States
ATTACH;FMTTYPE=image/png:https://seasideconvention.com/wp-content/uploads/2021/02/PNWBridgeMaint-e1614186770757.png
GEO:45.9941136;-123.9253166
X-APPLE-STRUCTURED-LOCATION;VALUE=URI;X-ADDRESS=Seaside Civic & Convention Center 415 First Avenue Seaside OR 97138 United States;X-APPLE-RADIUS=500;X-TITLE=415 First Avenue:geo:-123.9253166,45.9941136
END:VEVENT
BEGIN:VEVENT
DTSTART;VALUE=DATE:20250331
DTEND;VALUE=DATE:20250404
DTSTAMP:20260424T090146
CREATED:20240112T191958Z
LAST-MODIFIED:20250331T152708Z
UID:10001927-1743379200-1743724799@seasideconvention.com
SUMMARY:Bridge & Tunnel Inspectors Conference 2025
DESCRIPTION:This conference is a cooperation of ODOT\, WSDOT\, & FHWA. The purpose of the conference is to provide a forum for inspectors and managers to share information\, innovations\, ideas\, and best practices surrounding safety inspections as well as inspection methods\, equipment\, and management techniques. Additional opportunities are provided for attendees to gain a current national perspective on bridge and tunnel inspections from AASHTO and FHWA.
URL:https://seasideconvention.com/event/wsu-bridge-tunnel-inspectors-conference-2025/
LOCATION:Seaside Civic & Convention Center\, 415 First Avenue\, Seaside\, OR\, 97138\, United States
ATTACH;FMTTYPE=image/jpeg:https://seasideconvention.com/wp-content/uploads/2024/01/Bridge-inspector-lobby_resized-e1743434815985.jpg
GEO:45.9941136;-123.9253166
X-APPLE-STRUCTURED-LOCATION;VALUE=URI;X-ADDRESS=Seaside Civic & Convention Center 415 First Avenue Seaside OR 97138 United States;X-APPLE-RADIUS=500;X-TITLE=415 First Avenue:geo:-123.9253166,45.9941136
END:VEVENT
BEGIN:VEVENT
DTSTART;VALUE=DATE:20240430
DTEND;VALUE=DATE:20240503
DTSTAMP:20260424T090146
CREATED:20230518T181020Z
LAST-MODIFIED:20240816T220842Z
UID:10001888-1714435200-1714694399@seasideconvention.com
SUMMARY:PNW Bridge Maintenance Conference 2024
DESCRIPTION:The purpose of the PNW Bridge Maintenance Conference is to provide a forum for Bridge Maintenance Crews to share information\, innovations\, creative ideas\, and tricks of the trade to maintain highway structures including bridges\, sign structures\, retaining walls\, culverts\, and tunnels. Click here for more information to register!
URL:https://seasideconvention.com/event/pacific-northwest-bridge-maintenance-conference-2024/
LOCATION:Seaside Civic & Convention Center\, 415 First Avenue\, Seaside\, OR\, 97138\, United States
ATTACH;FMTTYPE=image/png:https://seasideconvention.com/wp-content/uploads/2021/02/PNWBridgeMaint-e1614186770757.png
GEO:45.9941136;-123.9253166
X-APPLE-STRUCTURED-LOCATION;VALUE=URI;X-ADDRESS=Seaside Civic & Convention Center 415 First Avenue Seaside OR 97138 United States;X-APPLE-RADIUS=500;X-TITLE=415 First Avenue:geo:-123.9253166,45.9941136
END:VEVENT
BEGIN:VEVENT
DTSTART;TZID=UTC:20240429T150000
DTEND;TZID=UTC:20240429T180000
DTSTAMP:20260424T090146
CREATED:20240425T153041Z
LAST-MODIFIED:20240816T220751Z
UID:10001950-1714402800-1714413600@seasideconvention.com
SUMMARY:PNW Bridge Maintenance Conference 2024 Move-In Day
DESCRIPTION:Move In Day 3:00pm-6:00pm
URL:https://seasideconvention.com/event/pacific-northwest-bridge-maintenance-conference-2024-move-in-day/
LOCATION:Seaside Civic & Convention Center\, 415 First Avenue\, Seaside\, OR\, 97138\, United States
ATTACH;FMTTYPE=image/png:https://seasideconvention.com/wp-content/uploads/2021/02/PNWBridgeMaint-e1614186770757.png
GEO:45.9941136;-123.9253166
X-APPLE-STRUCTURED-LOCATION;VALUE=URI;X-ADDRESS=Seaside Civic & Convention Center 415 First Avenue Seaside OR 97138 United States;X-APPLE-RADIUS=500;X-TITLE=415 First Avenue:geo:-123.9253166,45.9941136
END:VEVENT
BEGIN:VEVENT
DTSTART;VALUE=DATE:20220426
DTEND;VALUE=DATE:20220429
DTSTAMP:20260424T090146
CREATED:20210224T171843Z
LAST-MODIFIED:20230518T180948Z
UID:10001683-1650931200-1651190399@seasideconvention.com
SUMMARY:Pacific Northwest Bridge Maintenance Conference 2022
DESCRIPTION:The purpose of the Pacific Northwest Bridge Maintenance Conference is to provide a forum for Bridge Maintenance Crews to share information\, innovations\, creative ideas\, and tricks of the trade to maintain highway structures including bridges\, sign structures\, retaining walls\, culverts\, and tunnels.
URL:https://seasideconvention.com/event/pacific-northwest-bridge-maintenance-conference/
LOCATION:Seaside Civic & Convention Center\, 415 First Avenue\, Seaside\, OR\, 97138\, United States
ATTACH;FMTTYPE=image/png:https://seasideconvention.com/wp-content/uploads/2021/02/PNWBridgeMaint-e1614186770757.png
GEO:45.9941136;-123.9253166
X-APPLE-STRUCTURED-LOCATION;VALUE=URI;X-ADDRESS=Seaside Civic & Convention Center 415 First Avenue Seaside OR 97138 United States;X-APPLE-RADIUS=500;X-TITLE=415 First Avenue:geo:-123.9253166,45.9941136
END:VEVENT
END:VCALENDAR